Workbook

Sheet 基本支出
A1: 2026年基本支出预算表
A2: 单位：元
A3: 序号 | B3: 项目名称 | C3: 功能分类 | D3: 口径 | E3: 莘庄镇 | F3: 吴泾镇 | G3: 七宝镇 | H3: 浦江镇 | I3: 梅陇镇 | J3: 马桥镇 | K3: 华漕镇 | L3: 颛桥镇 | M3: 虹桥镇 | N3: 合计
E4: 幼儿园 | F4: 幼儿园 | G4: 幼儿园 | J4: 成人 | M4: 一贯制
A5: 1 | B5: 基本支出总预算数 | D5: 公式计算 | E5: =莘庄镇!J5 -> 1.124352e+08 | F5: =吴泾镇!I4 -> 50221453 | G5: =七宝镇!X4 -> 7.745895e+08 | H5: =浦江镇!X4 -> 4.8516496e+08 | I5: =梅陇镇!U4 -> 3.9193555e+08 | J5: =马桥镇!Q4 -> 3.0769917e+08 | K5: =华漕镇!N4 -> 2.622982e+08 | L5: =颛桥镇!T4 -> 4.4910086e+08 | M5: =虹桥镇!P4 -> 2.3244292e+08 | N5: =SUM(E5:M5) -> 3.0658878e+09
A6: 2 | B6: 工资福利支出 | D6: 公式计算 | E6: =莘庄镇!J6 -> 93611912 | F6: =吴泾镇!I5 -> 40575551 | G6: =七宝镇!X5 -> 6.4694531e+08 | H6: =浦江镇!X5 -> 3.9577363e+08 | I6: =梅陇镇!U5 -> 3.2422771e+08 | J6: =马桥镇!Q5 -> 2.5686991e+08 | K6: =华漕镇!N5 -> 2.1325905e+08 | L6: =颛桥镇!T5 -> 3.7290496e+08 | M6: =虹桥镇!P5 -> 1.9159472e+08 | N6: =SUM(E6:M6) -> 2.5357628e+09
A7: 3 | B7: 基本工资 | D7: 公式计算 | E7: =莘庄镇!J7 -> 14490279 | F7: =吴泾镇!I6 -> 6459624 | G7: =七宝镇!X6 -> 96142152 | H7: =浦江镇!X6 -> 56281534 | I7: =梅陇镇!U6 -> 49112801 | J7: =马桥镇!Q6 -> 37517592 | K7: =华漕镇!N6 -> 34390500 | L7: =颛桥镇!T6 -> 55216968 | M7: =虹桥镇!P6 -> 28888270 | N7: =SUM(E7:M7) -> 3.7849972e+08
A8: 4 | B8: 1、岗位工资 | C8: 主款项 | D8: 根据人事口径按实编制 | E8: =莘庄镇!J8 -> 7922796 | F8: =吴泾镇!I7 -> 3445912 | G8: =七宝镇!X7 -> 54675692 | H8: =浦江镇!X7 -> 34290575 | I8: =梅陇镇!U7 -> 27378096 | J8: =马桥镇!Q7 -> 21316776 | K8: =华漕镇!N7 -> 18401544 | L8: =颛桥镇!T7 -> 31345008 | M8: =虹桥镇!P7 -> 14995490 | N8: =SUM(E8:M8) -> 2.1377189e+08
A9: 5 | B9: 2、薪级工资 | C9: 主款项 | D9: 根据人事口径按实编制 | E9: =莘庄镇!J9 -> 6567482.6 | F9: =吴泾镇!I8 -> 3013712 | G9: =七宝镇!X8 -> 41466460 | H9: =浦江镇!X8 -> 21990959 | I9: =梅陇镇!U8 -> 21734705 | J9: =马桥镇!Q8 -> 16200816 | K9: =华漕镇!N8 -> 15988956 | L9: =颛桥镇!T8 -> 23871960 | M9: =虹桥镇!P8 -> 13892780 | N9: =SUM(E9:M9) -> 1.6472783e+08
A10: 6 | B10: 津贴补贴 | D10: 公式计算 | E10: =莘庄镇!J10 -> 1429584 | F10: =吴泾镇!I9 -> 595488 | G10: =七宝镇!X9 -> 9650532 | H10: =浦江镇!X9 -> 6000796 | I10: =梅陇镇!U9 -> 4962525.6 | J10: =马桥镇!Q9 -> 3857004 | K10: =华漕镇!N9 -> 3224412 | L10: =颛桥镇!T9 -> 5576556 | M10: =虹桥镇!P9 -> 2851614 | N10: =SUM(E10:M10) -> 38148512
A11: 7 | B11: 1、各类津贴★▲ | C11: 主款项 | D11: 根据人事口径按实编制 | E11: =莘庄镇!J11 -> 25104 | F11: =吴泾镇!I10 -> 9408 | G11: =七宝镇!X10 -> 120132 | H11: =浦江镇!X10 -> 87196 | I11: =梅陇镇!U10 -> 83805.6 | J11: =马桥镇!Q10 -> 50124 | K11: =华漕镇!N10 -> 61692 | L11: =颛桥镇!T10 -> 69516 | M11: =虹桥镇!P10 -> 42654 | N11: =SUM(E11:M11) -> 549631.6
A12: 8 | B12: 2、各类补贴 | D12: 公式计算 | E12: =莘庄镇!J12 -> 1404480 | F12: =吴泾镇!I11 -> 586080 | G12: =七宝镇!X11 -> 9530400 | H12: =浦江镇!X11 -> 5913600 | I12: =梅陇镇!U11 -> 4878720 | J12: =马桥镇!Q11 -> 3806880 | K12: =华漕镇!N11 -> 3162720 | L12: =颛桥镇!T11 -> 5507040 | M12: =虹桥镇!P11 -> 2808960 | N12: =SUM(E12:M12) -> 37598880
A13: 9 | B13: (1)上下班交通费补贴 | C13: 主款项 | D13: 公式计算 | E13: =莘庄镇!J13 -> 1404480 | F13: =吴泾镇!I12 -> 586080 | G13: =七宝镇!X12 -> 9530400 | H13: =浦江镇!X12 -> 5913600 | I13: =梅陇镇!U12 -> 4878720 | J13: =马桥镇!Q12 -> 3806880 | K13: =华漕镇!N12 -> 3162720 | L13: =颛桥镇!T12 -> 5507040 | M13: =虹桥镇!P12 -> 2808960 | N13: =SUM(E13:M13) -> 37598880
A14: 10 | B14: 其他社会保障缴费 | D14: 注：社保缴费基数应该相同 | E14: =莘庄镇!J14 -> 630049.72 | F14: =吴泾镇!I13 -> 282920.52 | G14: =七宝镇!X13 -> 4370161.8 | H14: =浦江镇!X13 -> 2724695.8 | I14: =梅陇镇!U13 -> 2194064.6 | J14: =马桥镇!Q13 -> 1752358.3 | K14: =华漕镇!N13 -> 1457374.3 | L14: =颛桥镇!T13 -> 2517452.6 | M14: =虹桥镇!P13 -> 1333762 | N14: =SUM(E14:M14) -> 17262840
A15: 11 | B15: 1、工伤保险费0.5(0.2%-1.9%) | C15: 主款项 | D15: 公式计算（请检查） | E15: =莘庄镇!J15 -> 315024.86 | F15: =吴泾镇!I14 -> 140541.87 | G15: =七宝镇!X14 -> 2185080.9 | H15: =浦江镇!X14 -> 1362347.9 | I15: =梅陇镇!U14 -> 1097032.3 | J15: =马桥镇!Q14 -> 876179.14 | K15: =华漕镇!N14 -> 728687.15 | L15: =颛桥镇!T14 -> 1258726.3 | M15: =虹桥镇!P14 -> 666881 | N15: =SUM(E15:M15) -> 8630501.4
A16: 12 | B16: 2、失业保险0.5% | C16: 主款项 | D16: 公式计算（请检查） | E16: =莘庄镇!J16 -> 315024.86 | F16: =吴泾镇!I15 -> 142378.65 | G16: =七宝镇!X15 -> 2185080.9 | H16: =浦江镇!X15 -> 1362347.9 | I16: =梅陇镇!U15 -> 1097032.3 | J16: =马桥镇!Q15 -> 876179.14 | K16: =华漕镇!N15 -> 728687.15 | L16: =颛桥镇!T15 -> 1258726.3 | M16: =虹桥镇!P15 -> 666881 | N16: =SUM(E16:M16) -> 8632338.2
A17: 13 | B17: 绩效工资 | D17: 公式计算 | E17: =莘庄镇!J17 -> 49339812 | F17: =吴泾镇!I16 -> 20820447 | G17: =七宝镇!X16 -> 344495352 | H17: =浦江镇!X16 -> 2.1087999e+08 | I17: =梅陇镇!U16 -> 171419476 | J17: =马桥镇!Q16 -> 136639190 | K17: =华漕镇!N16 -> 110062300 | L17: =颛桥镇!T16 -> 198826068 | M17: =虹桥镇!P16 -> 99835548 | N17: =SUM(E17:M17) -> 1.3423182e+09
A18: 14 | B18: 1、绩效工资 | C18: 主款项 | D18: 根据人保科数字编制 | E18: =莘庄镇!J18 -> 45398400 | F18: =吴泾镇!I17 -> 18856000 | G18: =七宝镇!X17 -> 313356700 | H18: =浦江镇!X17 -> 191509200 | I18: =梅陇镇!U17 -> 154909300 | J18: =马桥镇!Q17 -> 123962900 | K18: =华漕镇!N17 -> 102408300 | L18: =颛桥镇!T17 -> 179618600 | M18: =虹桥镇!P17 -> 90437500 | N18: =SUM(E18:M18) -> 1220456900
A19: 15 | B19: 2、校长职级制 | C19: 主款项 | D19: 根据校长职级制按实编制 | E19: =莘庄镇!J19 -> 1135412 | F19: =吴泾镇!I18 -> 658447 | G19: =七宝镇!X18 -> 6238652 | H19: =浦江镇!X18 -> 4810790.4 | I19: =梅陇镇!U18 -> 5006176 | J19: =马桥镇!Q18 -> 3220290 | K19: =华漕镇!N18 -> 0 | L19: =颛桥镇!T18 -> 4959468 | M19: =虹桥镇!P18 -> 2646048 | N19: =SUM(E19:M19) -> 28675283
A20: 16 | B20: 3、工作餐补贴 | C20: 主款项 | D20: 公式计算 | E20: =莘庄镇!J20 -> 1596000 | F20: =吴泾镇!I19 -> 666000 | G20: =七宝镇!X19 -> 10830000 | H20: =浦江镇!X19 -> 6720000 | I20: =梅陇镇!U19 -> 5544000 | J20: =马桥镇!Q19 -> 4326000 | K20: =华漕镇!N19 -> 3594000 | L20: =颛桥镇!T19 -> 6258000 | M20: =虹桥镇!P19 -> 3192000 | N20: =SUM(E20:M20) -> 42726000
A21: 17 | B21: 4、课后服务(在编人员） | C21: 主款项 | D21: 根据人事口径按实编制 | E21: =莘庄镇!J21 -> 1210000 | F21: =吴泾镇!I20 -> 640000 | G21: =七宝镇!X20 -> 14070000 | H21: =浦江镇!X20 -> 7840000 | I21: =梅陇镇!U20 -> 5960000 | J21: =马桥镇!Q20 -> 5130000 | K21: =华漕镇!N20 -> 4060000 | L21: =颛桥镇!T20 -> 7990000 | M21: =虹桥镇!P20 -> 3560000 | N21: =SUM(E21:M21) -> 50460000
A22: 18 | B22: 城镇职工基本医疗保险缴费 | D22: 公式计算 | E22: =莘庄镇!J22 -> 8190646.3 | F22: =吴泾镇!I21 -> 3661027.7 | G22: =七宝镇!X21 -> 56812102 | H22: =浦江镇!X21 -> 35421046 | I22: =梅陇镇!U21 -> 28522839 | J22: =马桥镇!Q21 -> 22780658 | K22: =华漕镇!N21 -> 18945866 | L22: =颛桥镇!T21 -> 32726883 | M22: =虹桥镇!P21 -> 17338906 | N22: =SUM(E22:M22) -> 2.2439997e+08
A23: 19 | B23: 1、医疗保险费9% | C23: 事业单位医疗 | D23: 公式计算 | E23: =莘庄镇!J23 -> 5670447.4 | F23: =吴泾镇!I22 -> 2562814 | G23: =七宝镇!X22 -> 39331455 | H23: =浦江镇!X22 -> 24522263 | I23: =梅陇镇!U22 -> 19746581 | J23: =马桥镇!Q22 -> 15771225 | K23: =华漕镇!N22 -> 13116369 | L23: =颛桥镇!T22 -> 22657073 | M23: =虹桥镇!P22 -> 12003858 | N23: =SUM(E23:M23) -> 1.5538208e+08
A24: 20 | B24: 2、其他医疗保险费4% | C24: 事业单位医疗 | D24: 公式计算（请检查） | E24: =莘庄镇!J24 -> 2520198.9 | F24: =吴泾镇!I23 -> 1098213.7 | G24: =七宝镇!X23 -> 17480647 | H24: =浦江镇!X23 -> 10898783 | I24: =梅陇镇!U23 -> 8776258.3 | J24: =马桥镇!Q23 -> 7009433.1 | K24: =华漕镇!N23 -> 5829497.1 | L24: =颛桥镇!T23 -> 10069810 | M24: =虹桥镇!P23 -> 5335048 | N24: =SUM(E24:M24) -> 69017890
A25: 21 | B25: (1)其他保险2%(统筹)：住院及大病补助 | C25: 事业单位医疗 | D25: 公式计算（请检查） | E25: =莘庄镇!J25 -> 1260099.4 | F25: =吴泾镇!I24 -> 549106.86 | G25: =七宝镇!X24 -> 8740323.4 | H25: =浦江镇!X24 -> 5449391.7 | I25: =梅陇镇!U24 -> 4388129.1 | J25: =马桥镇!Q24 -> 3504716.6 | K25: =华漕镇!N24 -> 2914748.6 | L25: =颛桥镇!T24 -> 5034905.1 | M25: =虹桥镇!P24 -> 2667524 | N25: =SUM(E25:M25) -> 34508945
A26: 22 | B26: (2)其他保险2%(单位)：购买保险 | C26: 事业单位医疗 | D26: 公式计算（请检查） | E26: =莘庄镇!J26 -> 1260099.4 | F26: =吴泾镇!I25 -> 549106.86 | G26: =七宝镇!X25 -> 8740323.4 | H26: =浦江镇!X25 -> 5449391.7 | I26: =梅陇镇!U25 -> 4388129.1 | J26: =马桥镇!Q25 -> 3504716.6 | K26: =华漕镇!N25 -> 2914748.6 | L26: =颛桥镇!T25 -> 5034905.1 | M26: =虹桥镇!P25 -> 2667524 | N26: =SUM(E26:M26) -> 34508945
A27: 23 | B27: 事业单位基本养老保险缴费 | D27: 公式计算 | E27: =莘庄镇!J27 -> 10080795 | F27: =吴泾镇!I26 -> 4556113.4 | G27: =七宝镇!X26 -> 69922587 | H27: =浦江镇!X26 -> 43595134 | I27: =梅陇镇!U26 -> 35105033 | J27: =马桥镇!Q26 -> 28037733 | K27: =华漕镇!N26 -> 23317989 | L27: =颛桥镇!T26 -> 40279241 | M27: =虹桥镇!P26 -> 21340192 | N27: =SUM(E27:M27) -> 2.7623482e+08
A28: 24 | B28: 1、基本养老保险16% | C28: 养老保险 | D28: 公式计算（请检查） | E28: =莘庄镇!J28 -> 10080795 | F28: =吴泾镇!I27 -> 4556113.4 | G28: =七宝镇!X27 -> 69922587 | H28: =浦江镇!X27 -> 43595134 | I28: =梅陇镇!U27 -> 35105033 | J28: =马桥镇!Q27 -> 28037733 | K28: =华漕镇!N27 -> 23317989 | L28: =颛桥镇!T27 -> 40279241 | M28: =虹桥镇!P27 -> 21340192 | N28: =SUM(E28:M28) -> 2.7623482e+08
A29: 25 | B29: 职业年金缴纳 | D29: 公式计算 | E29: =莘庄镇!J29 -> 5040397.7 | F29: =吴泾镇!I28 -> 2278056.7 | G29: =七宝镇!X28 -> 34961294 | H29: =浦江镇!X28 -> 21797567 | I29: =梅陇镇!U28 -> 17552517 | J29: =马桥镇!Q28 -> 14018866 | K29: =华漕镇!N28 -> 11658994 | L29: =颛桥镇!T28 -> 20139621 | M29: =虹桥镇!P28 -> 10670096 | N29: =SUM(E29:M29) -> 1.3811741e+08
A30: 26 | B30: 1、职业年金8% | C30: 职业年金 | D30: 公式计算（请检查） | E30: =莘庄镇!J30 -> 5040397.7 | F30: =吴泾镇!I29 -> 2278056.7 | G30: =七宝镇!X29 -> 34961294 | H30: =浦江镇!X29 -> 21797567 | I30: =梅陇镇!U29 -> 17552517 | J30: =马桥镇!Q29 -> 14018866 | K30: =华漕镇!N29 -> 11658994 | L30: =颛桥镇!T29 -> 20139621 | M30: =虹桥镇!P29 -> 10670096 | N30: =SUM(E30:M30) -> 1.3811741e+08
A31: 27 | B31: 公积金7% | C31: 公积金 | D31: 根据人事口径按实编制 | E31: =莘庄镇!J31 -> 4410348 | F31: =吴泾镇!I30 -> 1921874 | G31: =七宝镇!X30 -> 30591132 | H31: =浦江镇!X30 -> 19072871 | I31: =梅陇镇!U30 -> 15358452 | J31: =马桥镇!Q30 -> 12266508 | K31: =华漕镇!N30 -> 10201620 | L31: =颛桥镇!T30 -> 17622168 | M31: =虹桥镇!P30 -> 9336334 | N31: =SUM(E31:M31) -> 120781307
A32: 28 | B32: 其他工资福利 | C32: 主款项 | D32: 年初预算为0 | E32: =莘庄镇!J32 -> 0 | F32: =吴泾镇!I31 -> 0 | G32: =七宝镇!X31 -> 0 | H32: =浦江镇!X31 -> 0 | I32: =梅陇镇!U31 -> 0 | J32: =马桥镇!Q31 -> 0 | K32: =华漕镇!N31 -> 0 | L32: =颛桥镇!T31 -> 0 | M32: =虹桥镇!P31 -> 0 | N32: =SUM(E32:M32) -> 0
A33: 29 | B33: 对个人和家庭补助 | D33: 公式计算 | E33: =莘庄镇!J33 -> 2190840 | F33: =吴泾镇!I32 -> 1601700 | G33: =七宝镇!X32 -> 11347873 | H33: =浦江镇!X32 -> 7755110.2 | I33: =梅陇镇!U32 -> 8179320 | J33: =马桥镇!Q32 -> 4412820 | K33: =华漕镇!N32 -> 7863480 | L33: =颛桥镇!T32 -> 6698841 | M33: =虹桥镇!P32 -> 6789640 | N33: =SUM(E33:M33) -> 56839624
A34: 30 | B34: 退休费 | C34: 离退休 | D34: 根据退休人员情况按实编制 | E34: =莘庄镇!J34 -> 2180040 | F34: =吴泾镇!I33 -> 1593780 | G34: =七宝镇!X33 -> 11273123 | H34: =浦江镇!X33 -> 7721345 | I34: =梅陇镇!U33 -> 8134680 | J34: =马桥镇!Q33 -> 4394100 | K34: =华漕镇!N33 -> 7845120 | L34: =颛桥镇!T33 -> 6662481 | M34: =虹桥镇!P33 -> 6769580 | N34: =SUM(E34:M34) -> 56574249
A35: 31 | B35: 1、退休人员生活补贴 | C35: 离退休 | D35: 根据退休人员情况按实编制 | E35: =莘庄镇!J35 -> 2180040 | F35: =吴泾镇!I34 -> 1593780 | G35: =七宝镇!X34 -> 11273123 | H35: =浦江镇!X34 -> 7721345 | I35: =梅陇镇!U34 -> 8134680 | J35: =马桥镇!Q34 -> 4394100 | K35: =华漕镇!N34 -> 7845120 | L35: =颛桥镇!T34 -> 6662481 | M35: =虹桥镇!P34 -> 6769580 | N35: =SUM(E35:M35) -> 56574249
A36: 32 | B36: 奖励金 | D36: 公式计算 | E36: =莘庄镇!J36 -> 10800 | F36: =吴泾镇!I35 -> 7920 | G36: =七宝镇!X35 -> 74750 | H36: =浦江镇!X35 -> 33765.21 | I36: =梅陇镇!U35 -> 44640 | J36: =马桥镇!Q35 -> 18720 | K36: =华漕镇!N35 -> 18360 | L36: =颛桥镇!T35 -> 36360 | M36: =虹桥镇!P35 -> 20060 | N36: =SUM(E36:M36) -> 265375.21
A37: 33 | B37: 1、独生子女奖励费▲ | C37: 主款项 | D37: 根据人事口径按实编制 | E37: =莘庄镇!J37 -> 10800 | F37: =吴泾镇!I36 -> 7920 | G37: =七宝镇!X36 -> 74750 | H37: =浦江镇!X36 -> 33765.21 | I37: =梅陇镇!U36 -> 44640 | J37: =马桥镇!Q36 -> 18720 | K37: =华漕镇!N36 -> 18360 | L37: =颛桥镇!T36 -> 36360 | M37: =虹桥镇!P36 -> 20060 | N37: =SUM(E37:M37) -> 265375.21
A38: 34 | B38: 其他支出对个人和家庭补助 | D38: 公式计算 | E38: =莘庄镇!J38 -> 0 | F38: =吴泾镇!I37 -> 0 | G38: =七宝镇!X37 -> 0 | H38: =浦江镇!X37 -> 0 | I38: =梅陇镇!U37 -> 0 | J38: =马桥镇!Q37 -> 0 | K38: =华漕镇!N37 -> 0 | L38: =颛桥镇!T37 -> 0 | M38: =虹桥镇!P37 -> 0 | N38: =SUM(E38:M38) -> 0
A39: 35 | B39: 1、其他 | C39: 主款项 | D39: 除罗阳小学3人及七宝二中1人的退休共享费外，其他学校填0 | E39: =莘庄镇!J39 -> 0 | F39: =吴泾镇!I38 -> 0 | G39: =七宝镇!X38 -> 0 | H39: =浦江镇!X38 -> 0 | I39: =梅陇镇!U38 -> 0 | J39: =马桥镇!Q38 -> 0 | K39: =华漕镇!N38 -> 0 | L39: =颛桥镇!T38 -> 0 | M39: =虹桥镇!P38 -> 0 | N39: =SUM(E39:M39) -> 0
A40: 36 | B40: 商品和服务支出和其他资本性支出 | D40: 公式计算 | E40: =莘庄镇!J40 -> 16632452 | F40: =吴泾镇!I39 -> 8044201.9 | G40: =七宝镇!X39 -> 1.1629632e+08 | H40: =浦江镇!X39 -> 81636215 | I40: =梅陇镇!U39 -> 59528525 | J40: =马桥镇!Q39 -> 46416446 | K40: =华漕镇!N39 -> 41175669 | L40: =颛桥镇!T39 -> 69497065 | M40: =虹桥镇!P39 -> 34058555 | N40: =SUM(E40:M40) -> 4.7328545e+08
...

Sheet 2025年绩效增量
A1: 2025年最后一笔绩效工资分配情况
A2: 单位：元
A3: 序号 | B3: 学校名称 | C3: 总量 | D3: 其中校长职级
A4: 1 | B4: 闵行区虹桥中心小学 | C4: 1000 | D4: 0
B5: 总计 | C5: =SUM(C4:C4) -> 1000 | D5: =SUM(D4:D4) -> 0

Sheet 莘庄镇
A1: 2026年基本支出预算表（莘庄镇）
A2: 单位：元
A3: 序号 | B3: 项目名称 | C3: 功能分类 | D3: 口径 | E3: 康城幼儿园 | F3: 实验幼儿园 | G3: 佳佳幼儿园 | H3: 社区学校 | I3: 明星学校 | J3: 合计 | K3: 备注
E4: 幼儿园 | F4: 幼儿园 | G4: 幼儿园 | H4: 成人 | I4: 一贯制
A5: 1 | B5: 基本支出总预算数 | D5: 公式计算 | E5: =E6+E33+E40 -> 17015091 | F5: =F6+F33+F40 -> 12121958 | G5: =G6+G33+G40 -> 23826250 | H5: =H6+H33+H40 -> 2731814.9 | I5: =I6+I33+I40 -> 56740091 | J5: =SUM(E5:I5) -> 1.124352e+08
A6: 2 | B6: 工资福利支出 | D6: 公式计算 | E6: =E7+E10+E14+E17+E22+E27+E29+E31+E32 -> 14610833 | F6: =F7+F10+F14+F17+F22+F27+F29+F31+F32 -> 9813215.4 | G6: =G7+G10+G14+G17+G22+G27+G29+G31+G32 -> 20494870 | H6: =H7+H10+H14+H17+H22+H27+H29+H31+H32 -> 2358589.7 | I6: =I7+I10+I14+I17+I22+I27+I29+I31+I32 -> 46334404 | J6: =SUM(E6:I6) -> 93611912
A7: 3 | B7: 基本工资 | D7: 公式计算 | E7: =E8+E9 -> 2166309.6 | F7: =F8+F9 -> 1470648 | G7: =G8+G9 -> 3260976 | H7: =H8+H9 -> 374328 | I7: =I8+I9 -> 7218017 | J7: =SUM(E7:I7) -> 14490279
A8: 4 | B8: 1、岗位工资 | C8: 主款项 | D8: 根据人事口径按实编制 | E8: 1299624 | F8: 902088 | G8: 1862328 | H8: 181716 | I8: 3677040 | J8: =SUM(E8:I8) -> 7922796
A9: 5 | B9: 2、薪级工资 | C9: 主款项 | D9: 根据人事口径按实编制 | E9: 866685.6 | F9: 568560 | G9: 1398648 | H9: 192612 | I9: 3540977 | J9: =SUM(E9:I9) -> 6567482.6
A10: 6 | B10: 津贴补贴 | D10: 公式计算 | E10: =E11+E12 -> 245508 | F10: =F11+F12 -> 165636 | G10: =G11+G12 -> 331980 | H10: =H11+H12 -> 32196 | I10: =I11+I12 -> 654264 | J10: =SUM(E10:I10) -> 1429584
A11: 7 | B11: 1、各类津贴★▲ | C11: 主款项 | D11: 根据人事口径按实编制 | E11: 2628 | F11: 1956 | G11: 4620 | H11: 516 | I11: 15384 | J11: =SUM(E11:I11) -> 25104
A12: 8 | B12: 2、各类补贴 | D12: 公式计算 | E12: =E13 -> 242880 | F12: =F13 -> 163680 | G12: =G13 -> 327360 | H12: =H13 -> 31680 | I12: =I13 -> 638880 | J12: =SUM(E12:I12) -> 1404480
A13: 9 | B13: (1)上下班交通费补贴 | C13: 主款项 | D13: 公式计算 | E13: =440*12*E63 -> 242880 | F13: =440*12*F63 -> 163680 | G13: =440*12*G63 -> 327360 | H13: =440*12*H63 -> 31680 | I13: =440*12*I63 -> 638880 | J13: =SUM(E13:I13) -> 1404480
A14: 10 | B14: 其他社会保障缴费 | D14: 注：社保缴费基数应该相同 | E14: =E15+E16 -> 98453.14 | F14: =F15+F16 -> 66665.14 | G14: =G15+G16 -> 138980.58 | H14: =H15+H16 -> 16112.58 | I14: =I15+I16 -> 309838.28 | J14: =SUM(E14:I14) -> 630049.72
A15: 11 | B15: 1、工伤保险费0.5(0.2%-1.9%) | C15: 主款项 | D15: 公式计算（请检查） | E15: =ROUND(E31/0.07*0.005,2) -> 49226.57 | F15: =ROUND(F31/0.07*0.005,2) -> 33332.57 | G15: =ROUND(G31/0.07*0.005,2) -> 69490.29 | H15: =ROUND(H31/0.07*0.005,2) -> 8056.29 | I15: =ROUND(I31/0.07*0.005,2) -> 154919.14 | J15: =SUM(E15:I15) -> 315024.86
A16: 12 | B16: 2、失业保险0.5% | C16: 主款项 | D16: 公式计算（请检查） | E16: =ROUND(E31/0.07*0.005,2) -> 49226.57 | F16: =ROUND(F31/0.07*0.005,2) -> 33332.57 | G16: =ROUND(G31/0.07*0.005,2) -> 69490.29 | H16: =ROUND(H31/0.07*0.005,2) -> 8056.29 | I16: =ROUND(I31/0.07*0.005,2) -> 154919.14 | J16: =SUM(E16:I16) -> 315024.86
A17: 13 | B17: 绩效工资 | D17: 公式计算 | E17: =E18+E19+E20+E21 -> 7768624 | F17: =F18+F19+F20+F21 -> 5177000 | G17: =G18+G19+G20+G21 -> 10647788 | H17: =H18+H19+H20+H21 -> 1227000 | I17: =I18+I19+I20+I21 -> 24519400 | J17: =SUM(E17:I17) -> 49339812
A18: 14 | B18: 1、绩效工资 | C18: 主款项 | D18: 根据人保科数字编制 | E18: 7245000 | F18: 4991000 | G18: 10004000 | H18: 1191000 | I18: 21967400 | J18: =SUM(E18:I18) -> 45398400
A19: 15 | B19: 2、校长职级制 | C19: 主款项 | D19: 根据校长职级制按实编制 | E19: 247624 | G19: 271788 | I19: 616000 | J19: =SUM(E19:I19) -> 1135412
A20: 16 | B20: 3、工作餐补贴 | C20: 主款项 | D20: 公式计算 | E20: =E63*500*12 -> 276000 | F20: =F63*500*12 -> 186000 | G20: =G63*500*12 -> 372000 | H20: =H63*500*12 -> 36000 | I20: =I63*500*12 -> 726000 | J20: =SUM(E20:I20) -> 1596000
A21: 17 | B21: 4、课后服务(在编人员） | C21: 主款项 | D21: 根据人事口径按实编制 | I21: 1210000 | J21: =SUM(E21:I21) -> 1210000
A22: 18 | B22: 城镇职工基本医疗保险缴费 | D22: 公式计算 | E22: =E23+E24 -> 1279890.9 | F22: =F23+F24 -> 866646.87 | G22: =G23+G24 -> 1806747.4 | H22: =H23+H24 -> 209463.42 | I22: =I23+I24 -> 4027897.7 | J22: =SUM(E22:I22) -> 8190646.3
A23: 19 | B23: 1、医疗保险费9% | C23: 事业单位医疗 | D23: 公式计算 | E23: =ROUND(E31/0.07*0.09,2) -> 886078.29 | F23: =ROUND(F31/0.07*0.09,2) -> 599986.29 | G23: =ROUND(G31/0.07*0.09,2) -> 1250825.1 | H23: =ROUND(H31/0.07*0.09,2) -> 145013.14 | I23: =ROUND(I31/0.07*0.09,2) -> 2788544.6 | J23: =SUM(E23:I23) -> 5670447.4
A24: 20 | B24: 2、其他医疗保险费4% | C24: 事业单位医疗 | D24: 公式计算（请检查） | E24: =E25+E26 -> 393812.58 | F24: =F25+F26 -> 266660.58 | G24: =G25+G26 -> 555922.28 | H24: =H25+H26 -> 64450.28 | I24: =I25+I26 -> 1239353.1 | J24: =SUM(E24:I24) -> 2520198.9
A25: 21 | B25: (1)其他保险2%(统筹)：住院及大病补助 | C25: 事业单位医疗 | D25: 公式计算（请检查） | E25: =ROUND(E31/0.07*0.02,2) -> 196906.29 | F25: =ROUND(F31/0.07*0.02,2) -> 133330.29 | G25: =ROUND(G31/0.07*0.02,2) -> 277961.14 | H25: =ROUND(H31/0.07*0.02,2) -> 32225.14 | I25: =ROUND(I31/0.07*0.02,2) -> 619676.57 | J25: =SUM(E25:I25) -> 1260099.4
A26: 22 | B26: (2)其他保险2%(单位)：购买保险 | C26: 事业单位医疗 | D26: 公式计算（请检查） | E26: =ROUND(E31/0.07*0.02,2) -> 196906.29 | F26: =ROUND(F31/0.07*0.02,2) -> 133330.29 | G26: =ROUND(G31/0.07*0.02,2) -> 277961.14 | H26: =ROUND(H31/0.07*0.02,2) -> 32225.14 | I26: =ROUND(I31/0.07*0.02,2) -> 619676.57 | J26: =SUM(E26:I26) -> 1260099.4
A27: 23 | B27: 事业单位基本养老保险缴费 | D27: 公式计算 | E27: =E28 -> 1575250.3 | F27: =F28 -> 1066642.3 | G27: =G28 -> 2223689.1 | H27: =H28 -> 257801.14 | I27: =I28 -> 4957412.6 | J27: =SUM(E27:I27) -> 10080795
A28: 24 | B28: 1、基本养老保险16% | C28: 养老保险 | D28: 公式计算（请检查） | E28: =ROUND(E31/0.07*0.16,2) -> 1575250.3 | F28: =ROUND(F31/0.07*0.16,2) -> 1066642.3 | G28: =ROUND(G31/0.07*0.16,2) -> 2223689.1 | H28: =ROUND(H31/0.07*0.16,2) -> 257801.14 | I28: =ROUND(I31/0.07*0.16,2) -> 4957412.6 | J28: =SUM(E28:I28) -> 10080795
A29: 25 | B29: 职业年金缴纳 | D29: 公式计算 | E29: =E30 -> 787625.14 | F29: =F30 -> 533321.14 | G29: =G30 -> 1111844.6 | H29: =H30 -> 128900.57 | I29: =I30 -> 2478706.3 | J29: =SUM(E29:I29) -> 5040397.7
A30: 26 | B30: 1、职业年金8% | C30: 职业年金 | D30: 公式计算（请检查） | E30: =ROUND(E31/0.07*0.08,2) -> 787625.14 | F30: =ROUND(F31/0.07*0.08,2) -> 533321.14 | G30: =ROUND(G31/0.07*0.08,2) -> 1111844.6 | H30: =ROUND(H31/0.07*0.08,2) -> 128900.57 | I30: =ROUND(I31/0.07*0.08,2) -> 2478706.3 | J30: =SUM(E30:I30) -> 5040397.7
A31: 27 | B31: 公积金7% | C31: 公积金 | D31: 根据人事口径按实编制 | E31: 689172 | F31: 466656 | G31: 972864 | H31: 112788 | I31: 2168868 | J31: =SUM(E31:I31) -> 4410348
A32: 28 | B32: 其他工资福利 | C32: 主款项 | D32: 年初预算为0 | E32: 0 | J32: =SUM(E32:I32) -> 0
A33: 29 | B33: 对个人和家庭补助 | D33: 公式计算 | E33: =E34+E36+E38 -> 28560 | F33: =F34+F36+F38 -> 2520 | G33: =G34+G36+G38 -> 236880 | H33: =H34+H36+H38 -> 55620 | I33: =I34+I36+I38 -> 1867260 | J33: =SUM(E33:I33) -> 2190840
A34: 30 | B34: 退休费 | C34: 离退休 | D34: 根据退休人员情况按实编制 | E34: =E35 -> 26040 | F34: =F35 -> 0 | G34: =G35 -> 233280 | H34: =H35 -> 55620 | I34: =I35 -> 1865100 | J34: =SUM(E34:I34) -> 2180040
A35: 31 | B35: 1、退休人员生活补贴 | C35: 离退休 | D35: 根据退休人员情况按实编制 | E35: 26040 | G35: 233280 | H35: 55620 | I35: 1865100 | J35: =SUM(E35:I35) -> 2180040
A36: 32 | B36: 奖励金 | D36: 公式计算 | E36: =E37 -> 2520 | F36: =F37 -> 2520 | G36: =G37 -> 3600 | H36: =H37 -> 0 | I36: =I37 -> 2160 | J36: =SUM(E36:I36) -> 10800
A37: 33 | B37: 1、独生子女奖励费▲ | C37: 主款项 | D37: 根据人事口径按实编制 | E37: 2520 | F37: 2520 | G37: 3600 | I37: 2160 | J37: =SUM(E37:I37) -> 10800
A38: 34 | B38: 其他支出对个人和家庭补助 | D38: 公式计算 | E38: =E39 -> 0 | F38: =F39 -> 0 | G38: =G39 -> 0 | H38: =H39 -> 0 | I38: =I39 -> 0 | J38: =SUM(E38:I38) -> 0
A39: 35 | B39: 1、其他 | C39: 主款项 | D39: 除罗阳小学3人及七宝二中1人的退休共享费外，其他学校填0 | E39: 0 | J39: =SUM(E39:I39) -> 0
A40: 36 | B40: 商品和服务支出和其他资本性支出 | D40: 公式计算 | E40: =E41+E43+E45+E47+E49+E52+E54+E56+E60 -> 2375698.1 | F40: =F41+F43+F45+F47+F49+F52+F54+F56+F60 -> 2306222.1 | G40: =G41+G43+G45+G47+G49+G52+G54+G56+G60 -> 3094500 | H40: =H41+H43+H45+H47+H49+H52+H54+H56+H60 -> 317605.14 | I40: =I41+I43+I45+I47+I49+I52+I54+I56+I60 -> 8538426.9 | J40: =SUM(E40:I40) -> 16632452
...

Sheet 吴泾镇
A1: 2026年基本支出预算表
A2: 序号 | B2: 项目名称 | C2: 功能分类 | D2: 口径 | E2: 上海市闵行区景东小学 | F2: 上海交通大学附属闵行吴泾幼儿园 | G2: 华东师范大学附属闵行永德幼儿园 | H2: 上海市闵行区吴泾镇社区学校 | I2: 合计 | J2: 备注
E3: 小学 | F3: 幼儿园 | G3: 幼儿园 | H3: 成人
A4: 1 | B4: 基本支出总预算数 | D4: 公式计算 | E4: =E5+E32+E39 -> 30579544 | F4: =F5+F32+F39 -> 17662321 | G4: =G5+G32+G39 -> 747394.02 | H4: =H5+H32+H39 -> 1232194 | I4: =SUM(E4:H4) -> 50221453
A5: 2 | B5: 工资福利支出 | D5: 公式计算 | E5: =E6+E9+E13+E16+E21+E26+E28+E30+E31 -> 24125936 | F5: =F6+F9+F13+F16+F21+F26+F28+F30+F31 -> 15059549 | G5: =G6+G9+G13+G16+G21+G26+G28+G30+G31 -> 345088.02 | H5: =H6+H9+H13+H16+H21+H26+H28+H30+H31 -> 1044978 | I5: =SUM(E5:H5) -> 40575551
A6: 3 | B6: 基本工资 | D6: 公式计算 | E6: =E7+E8 -> 3849756 | F6: =F7+F8 -> 2460000 | G6: =G7+G8 -> 0 | H6: =H7+H8 -> 149868 | I6: =SUM(E6:H6) -> 6459624
A7: 4 | B7: 1、岗位工资 | C7: 主款项 | D7: 根据人事口径按实编制 | E7: 2022288 | F7: 1360000 | H7: 63624 | I7: =SUM(E7:H7) -> 3445912
A8: 5 | B8: 2、薪级工资 | C8: 主款项 | D8: 根据人事口径按实编制 | E8: 1827468 | F8: 1100000 | H8: 86244 | I8: =SUM(E8:H8) -> 3013712
A9: 6 | B9: 津贴补贴 | D9: 公式计算 | E9: =E10+E11 -> 343272 | F9: =F10+F11 -> 241416 | G9: =G10+G11 -> 0 | H9: =H10+H11 -> 10800 | I9: =SUM(E9:H9) -> 595488
A10: 7 | B10: 1、各类津贴★▲ | C10: 主款项 | D10: 根据人事口径按实编制 | E10: 5352 | F10: 3816 | H10: 240 | I10: =SUM(E10:H10) -> 9408
A11: 8 | B11: 2、各类补贴 | D11: 公式计算 | E11: =E12 -> 337920 | F11: =F12 -> 237600 | G11: =G12 -> 0 | H11: =H12 -> 10560 | I11: =SUM(E11:H11) -> 586080
A12: 9 | B12: (1)上下班交通费补贴 | C12: 主款项 | D12: 公式计算 | E12: =440*12*E62 -> 337920 | F12: =440*12*F62 -> 237600 | H12: =440*12*H62 -> 10560 | I12: =SUM(E12:H12) -> 586080
A13: 10 | B13: 其他社会保障缴费 | D13: 注：社保缴费基数应该相同 | E13: =E14+E15 -> 165481.72 | F13: =F14+F15 -> 101953.72 | G13: =G14+G15 -> 8367.08 | H13: =H14+H15 -> 7118 | I13: =SUM(E13:H13) -> 282920.52
A14: 11 | B14: 1、工伤保险费0.5(0.2%-1.9%) | C14: 主款项 | D14: 公式计算（请检查） | E14: =ROUND(E30/0.07*0.005,2) -> 82740.86 | F14: =ROUND(F30/0.07*0.005,2) -> 50976.86 | G14: 3265.15 | H14: =ROUND(H30/0.07*0.005,2) -> 3559 | I14: =SUM(E14:H14) -> 140541.87
A15: 12 | B15: 2、失业保险0.5% | C15: 主款项 | D15: 公式计算（请检查） | E15: =ROUND(E30/0.07*0.005,2) -> 82740.86 | F15: =ROUND(F30/0.07*0.005,2) -> 50976.86 | G15: 5101.93 | H15: =ROUND(H30/0.07*0.005,2) -> 3559 | I15: =SUM(E15:H15) -> 142378.65
A16: 13 | B16: 绩效工资 | D16: 公式计算 | E16: =E17+E18+E19+E20 -> 12486231 | F16: =F17+F18+F19+F20 -> 7770216 | G16: =G17+G18+G19+G20 -> 0 | H16: =H17+H18+H19+H20 -> 564000 | I16: =SUM(E16:H16) -> 20820447
A17: 14 | B17: 1、绩效工资 | C17: 主款项 | D17: 根据人保科数字编制 | E17: 11088000 | F17: 7216000 | H17: 552000 | I17: =SUM(E17:H17) -> 18856000
A18: 15 | B18: 2、校长职级制 | C18: 主款项 | D18: 根据校长职级制按实编制 | E18: 374231 | F18: 284216 | I18: =SUM(E18:H18) -> 658447
A19: 16 | B19: 3、工作餐补贴 | C19: 主款项 | D19: 公式计算 | E19: =E62*500*12 -> 384000 | F19: =F62*500*12 -> 270000 | H19: =H62*500*12 -> 12000 | I19: =SUM(E19:H19) -> 666000
A20: 17 | B20: 4、课后服务(在编人员） | C20: 主款项 | D20: 根据人事口径按实编制 | E20: =E64*10000 -> 640000 | I20: =SUM(E20:H20) -> 640000
A21: 18 | B21: 城镇职工基本医疗保险缴费 | D21: 公式计算 | E21: =E22+E23 -> 2151262.3 | F21: =F22+F23 -> 1325398.3 | G21: =G22+G23 -> 91833.13 | H21: =H22+H23 -> 92534 | I21: =SUM(E21:H21) -> 3661027.7
A22: 19 | B22: 1、医疗保险费9% | C22: 事业单位医疗 | D22: 公式计算 | E22: =ROUND(E30/0.07*0.09,2) -> 1489335.4 | F22: =ROUND(F30/0.07*0.09,2) -> 917583.43 | G22: 91833.13 | H22: =ROUND(H30/0.07*0.09,2) -> 64062 | I22: =SUM(E22:H22) -> 2562814
A23: 20 | B23: 2、其他医疗保险费4% | C23: 事业单位医疗 | D23: 公式计算（请检查） | E23: =E24+E25 -> 661926.86 | F23: =F24+F25 -> 407814.86 | G23: =G24+G25 -> 0 | H23: =H24+H25 -> 28472 | I23: =SUM(E23:H23) -> 1098213.7
A24: 21 | B24: (1)其他保险2%(统筹)：住院及大病补助 | C24: 事业单位医疗 | D24: 公式计算（请检查） | E24: =ROUND(E30/0.07*0.02,2) -> 330963.43 | F24: =ROUND(F30/0.07*0.02,2) -> 203907.43 | H24: =ROUND(H30/0.07*0.02,2) -> 14236 | I24: =SUM(E24:H24) -> 549106.86
A25: 22 | B25: (2)其他保险2%(单位)：购买保险 | C25: 事业单位医疗 | D25: 公式计算（请检查） | E25: =ROUND(E30/0.07*0.02,2) -> 330963.43 | F25: =ROUND(F30/0.07*0.02,2) -> 203907.43 | H25: =ROUND(H30/0.07*0.02,2) -> 14236 | I25: =SUM(E25:H25) -> 549106.86
A26: 23 | B26: 事业单位基本养老保险缴费 | D26: 公式计算 | E26: =E27 -> 2647707.4 | F26: =F27 -> 1631259.4 | G26: =G27 -> 163258.54 | H26: =H27 -> 113888 | I26: =SUM(E26:H26) -> 4556113.4
A27: 24 | B27: 1、基本养老保险16% | C27: 养老保险 | D27: 公式计算（请检查） | E27: =ROUND(E30/0.07*0.16,2) -> 2647707.4 | F27: =ROUND(F30/0.07*0.16,2) -> 1631259.4 | G27: 163258.54 | H27: =ROUND(H30/0.07*0.16,2) -> 113888 | I27: =SUM(E27:H27) -> 4556113.4
A28: 25 | B28: 职业年金缴纳 | D28: 公式计算 | E28: =E29 -> 1323853.7 | F28: =F29 -> 815629.71 | G28: =G29 -> 81629.27 | H28: =H29 -> 56944 | I28: =SUM(E28:H28) -> 2278056.7
A29: 26 | B29: 1、职业年金8% | C29: 职业年金 | D29: 公式计算（请检查） | E29: =ROUND(E30/0.07*0.08,2) -> 1323853.7 | F29: =ROUND(F30/0.07*0.08,2) -> 815629.71 | G29: 81629.27 | H29: =ROUND(H30/0.07*0.08,2) -> 56944 | I29: =SUM(E29:H29) -> 2278056.7
A30: 27 | B30: 公积金7% | C30: 公积金 | D30: 根据人事口径按实编制 | E30: 1158372 | F30: 713676 | H30: 49826 | I30: =SUM(E30:H30) -> 1921874
A31: 28 | B31: 其他工资福利 | C31: 主款项 | D31: 年初预算为0 | I31: =SUM(E31:H31) -> 0
A32: 29 | B32: 对个人和家庭补助 | D32: 公式计算 | E32: =E33+E35+E37 -> 1386780 | F32: =F33+F35+F37 -> 201900 | G32: =G33+G35+G37 -> 0 | H32: =H33+H35+H37 -> 13020 | I32: =SUM(E32:H32) -> 1601700
A33: 30 | B33: 退休费 | C33: 离退休 | D33: 根据退休人员情况按实编制 | E33: =E34 -> 1382460 | F33: =F34 -> 198300 | G33: =G34 -> 0 | H33: =H34 -> 13020 | I33: =SUM(E33:H33) -> 1593780
A34: 31 | B34: 1、退休人员生活补贴 | C34: 离退休 | D34: 根据退休人员情况按实编制 | E34: 1382460 | F34: 198300 | H34: 13020 | I34: =SUM(E34:H34) -> 1593780
A35: 32 | B35: 奖励金 | D35: 公式计算 | E35: =E36 -> 4320 | F35: =F36 -> 3600 | G35: =G36 -> 0 | H35: =H36 -> 0 | I35: =SUM(E35:H35) -> 7920
A36: 33 | B36: 1、独生子女奖励费▲ | C36: 主款项 | D36: 根据人事口径按实编制 | E36: 4320 | F36: 3600 | I36: =SUM(E36:H36) -> 7920
A37: 34 | B37: 其他支出对个人和家庭补助 | D37: 公式计算 | E37: =E38 -> 0 | F37: =F38 -> 0 | G37: =G38 -> 0 | H37: =H38 -> 0 | I37: =SUM(E37:H37) -> 0
A38: 35 | B38: 1、其他 | C38: 主款项 | D38: 除罗阳小学3人及七宝二中1人的退休共享费外，其他学校填0 | I38: =SUM(E38:H38) -> 0
A39: 36 | B39: 商品和服务支出和其他资本性支出 | D39: 公式计算 | E39: =E40+E42+E44+E46+E48+E51+E53+E55+E59 -> 5066827.9 | F39: =F40+F42+F44+F46+F48+F51+F53+F55+F59 -> 2400871.9 | G39: =G40+G42+G44+G46+G48+G51+G53+G55+G59 -> 402306 | H39: =H40+H42+H44+H46+H48+H51+H53+H55+H59 -> 174196 | I39: =SUM(E39:H39) -> 8044201.9
A40: 37 | B40: (一)公用定额 | D40: 学生人数*定额 | E40: =E67*3210 -> 3835950 | F40: 1753160 | G40: 402306 | H40: 44800 | I40: =SUM(E40:H40) -> 6036216
...

Sheet 七宝镇
A1: 2026年基本支出预算表
A2: 序号 | B2: 项目名称 | C2: 功能分类 | D2: 口径 | E2: 七宝二中 | F2: 七宝实验中学 | G2: 航华中学 | H2: 七宝三中 | I2: 明强小学 | J2: 黎明小学 | K2: 七宝实小 | L2: 航华二小 | M2: 明强二小 | N2: 星辰 | O2: 春欣 | P2: 七实幼 | Q2: 航华二幼 | R2: 七宝社区 | S2: 皇都 | T2: 文来 | U2: 明强幼 | V2: 七宝幼 | W2: 宝盛 | X2: 合计 | Y2: 备注
E3: 初中 | F3: 初中 | G3: 初中 | H3: 初中 | I3: 小学 | J3: 小学 | K3: 小学 | L3: 小学 | M3: 小学 | N3: 幼儿园 | O3: 幼儿园 | P3: 幼儿园 | Q3: 幼儿园 | R3: 成人 | S3: 幼儿园 | T3: 一贯制 | U3: 幼儿园 | V3: 幼儿园 | W3: 幼儿园
A4: 1 | B4: 基本支出总预算数 | D4: 公式计算 | E4: =E5+E32+E39 -> 1.221013e+08 | F4: =F5+F32+F39 -> 44345494 | G4: =G5+G32+G39 -> 37440106 | H4: =H5+H32+H39 -> 49892217 | I4: =I5+I32+I39 -> 1.5025829e+08 | J4: =J5+J32+J39 -> 24627260 | K4: =K5+K32+K39 -> 57540085 | L4: =L5+L32+L39 -> 23220013 | ... W4: =W5+W32+W39 -> 8868806.9 | X4: =SUM(E4:W4) -> 7.745895e+08
A5: 2 | B5: 工资福利支出 | D5: 公式计算 | E5: =E6+E9+E13+E16+E21+E26+E28+E30+E31 -> 1.0078189e+08 | F5: =F6+F9+F13+F16+F21+F26+F28+F30+F31 -> 36145363 | G5: =G6+G9+G13+G16+G21+G26+G28+G30+G31 -> 30316948 | H5: =H6+H9+H13+H16+H21+H26+H28+H30+H31 -> 41486424 | I5: =I6+I9+I13+I16+I21+I26+I28+I30+I31 -> 125736116 | J5: =J6+J9+J13+J16+J21+J26+J28+J30+J31 -> 20545949 | K5: =K6+K9+K13+K16+K21+K26+K28+K30+K31 -> 47946922 | L5: =L6+L9+L13+L16+L21+L26+L28+L30+L31 -> 19459019 | ... W5: =W6+W9+W13+W16+W21+W26+W28+W30+W31 -> 7057592 | X5: =SUM(E5:W5) -> 6.4694531e+08
A6: 3 | B6: 基本工资 | D6: 公式计算 | E6: =E7+E8 -> 14812560 | F6: =F7+F8 -> 5237304 | G6: =G7+G8 -> 4563828 | H6: =H7+H8 -> 5675934.2 | I6: =I7+I8 -> 18889764 | J6: =J7+J8 -> 3241044 | K6: =K7+K8 -> 6530264.4 | L6: =L7+L8 -> 3106428 | ... W6: =W7+W8 -> 1105920 | X6: =SUM(E6:W6) -> 96142152
A7: 4 | B7: 1、岗位工资 | C7: 主款项 | D7: 根据人事口径按实编制 | E7: 8150508 | F7: =256075*12 -> 3072900 | G7: 2444388 | H7: =302880*12 -> 3634560 | I7: =888555*12 -> 10662660 | J7: 1661112 | K7: =319972.7*12 -> 3839672.4 | L7: =131269*12 -> 1575228 | M7: =313331*12 -> 3759972 | N7: =97000*12 -> 1164000 | O7: =118641*12 -> 1423692 | P7: =72535*12 -> 870420 | Q7: 1229028 | R7: 208308 | S7: =115933*12 -> 1391196 | T7: =344495.8*12 -> 4133949.6 | U7: =49368.2*12 -> 592418.4 | V7: =350383*12 -> 4204596 | W7: 657084 | X7: =SUM(E7:W7) -> 54675692
A8: 5 | B8: 2、薪级工资 | C8: 主款项 | D8: 根据人事口径按实编制 | E8: 6662052 | F8: =180367*12 -> 2164404 | G8: 2119440 | H8: =170114.52*12 -> 2041374.2 | I8: =685592*12 -> 8227104 | J8: 1579932 | K8: =224216*12 -> 2690592 | L8: =127600*12 -> 1531200 | M8: =218112*12 -> 2617344 | N8: =92000*12 -> 1104000 | O8: =77033*12 -> 924396 | P8: =51591*12 -> 619092 | Q8: 1070496 | R8: 213612 | S8: =86298*12 -> 1035576 | T8: =190660.4*12 -> 2287924.8 | U8: =34715.4*12 -> 416584.8 | V8: =309375*12 -> 3712500 | W8: 448836 | X8: =SUM(E8:W8) -> 41466460
A9: 6 | B9: 津贴补贴 | D9: 公式计算 | E9: =E10+E11 -> 1417548 | F9: =F10+F11 -> 518496 | G9: =G10+G11 -> 428496 | H9: =H10+H11 -> 607344 | I9: =I10+I11 -> 1855248 | J9: =J10+J11 -> 300516 | K9: =K10+K11 -> 703668 | L9: =L10+L11 -> 289656 | ... W9: =W10+W11 -> 117672 | X9: =SUM(E9:W9) -> 9650532
A10: 7 | B10: 1、各类津贴★▲ | C10: 主款项 | D10: 根据人事口径按实编制 | E10: 18348 | F10: =528*12 -> 6336 | G10: 6096 | H10: =452*12 -> 5424 | I10: =1924*12 -> 23088 | J10: 4836 | K10: =559*12 -> 6708 | L10: =378*12 -> 4536 | M10: =640*12 -> 7680 | N10: =298*12 -> 3576 | O10: =272*12 -> 3264 | P10: 2088 | Q10: 3540 | R10: 564 | S10: =268*12 -> 3216 | T10: =406*12 -> 4872 | U10: =104*12 -> 1248 | V10: =1100*12 -> 13200 | W10: 1512 | X10: =SUM(E10:W10) -> 120132
A11: 8 | B11: 2、各类补贴 | D11: 公式计算 | E11: =E12 -> 1399200 | F11: =F12 -> 512160 | G11: =G12 -> 422400 | H11: =H12 -> 601920 | I11: =I12 -> 1832160 | J11: =J12 -> 295680 | K11: =K12 -> 696960 | L11: =L12 -> 285120 | ... W11: =W12 -> 116160 | X11: =SUM(E11:W11) -> 9530400
A12: 9 | B12: (1)上下班交通费补贴 | C12: 主款项 | D12: 公式计算 | E12: =440*12*E62 -> 1399200 | F12: =440*12*F62 -> 512160 | G12: =440*12*G62 -> 422400 | H12: =440*12*H62 -> 601920 | I12: =440*12*I62 -> 1832160 | J12: =440*12*J62 -> 295680 | K12: =440*12*K62 -> 696960 | L12: =440*12*L62 -> 285120 | ... W12: =440*12*W62 -> 116160 | X12: =SUM(E12:W12) -> 9530400
A13: 10 | B13: 其他社会保障缴费 | D13: 注：社保缴费基数应该相同 | E13: =E14+E15 -> 691652.58 | F13: =F14+F15 -> 240341.14 | G13: =G14+G15 -> 203736 | H13: =H14+H15 -> 270296.58 | I13: =I14+I15 -> 848760 | J13: =J14+J15 -> 137497.72 | K13: =K14+K15 -> 336193.72 | L13: =L14+L15 -> 129610.28 | ... W13: =W14+W15 -> 48000 | X13: =SUM(E13:W13) -> 4370161.8
A14: 11 | B14: 1、工伤保险费0.5(0.2%-1.9%) | C14: 主款项 | D14: 公式计算（请检查） | E14: =ROUND(E30/0.07*0.005,2) -> 345826.29 | F14: =ROUND(F30/0.07*0.005,2) -> 120170.57 | G14: =ROUND(G30/0.07*0.005,2) -> 101868 | H14: =ROUND(H30/0.07*0.005,2) -> 135148.29 | I14: =ROUND(I30/0.07*0.005,2) -> 424380 | J14: =ROUND(J30/0.07*0.005,2) -> 68748.86 | K14: =ROUND(K30/0.07*0.005,2) -> 168096.86 | L14: =ROUND(L30/0.07*0.005,2) -> 64805.14 | ... W14: =ROUND(W30/0.07*0.005,2) -> 24000 | X14: =SUM(E14:W14) -> 2185080.9
A15: 12 | B15: 2、失业保险0.5% | C15: 主款项 | D15: 公式计算（请检查） | E15: =ROUND(E30/0.07*0.005,2) -> 345826.29 | F15: =ROUND(F30/0.07*0.005,2) -> 120170.57 | G15: =ROUND(G30/0.07*0.005,2) -> 101868 | H15: =ROUND(H30/0.07*0.005,2) -> 135148.29 | I15: =ROUND(I30/0.07*0.005,2) -> 424380 | J15: =ROUND(J30/0.07*0.005,2) -> 68748.86 | K15: =ROUND(K30/0.07*0.005,2) -> 168096.86 | L15: =ROUND(L30/0.07*0.005,2) -> 64805.14 | ... W15: =ROUND(W30/0.07*0.005,2) -> 24000 | X15: =SUM(E15:W15) -> 2185080.9
A16: 13 | B16: 绩效工资 | D16: 公式计算 | E16: =E17+E18+E19+E20 -> 53427416 | F16: =F17+F18+F19+F20 -> 19574212 | G16: =G17+G18+G19+G20 -> 16156504 | H16: =H17+H18+H19+H20 -> 23039800 | I16: =I17+I18+I19+I20 -> 66796904 | J16: =J17+J18+J19+J20 -> 10816992 | K16: =K17+K18+K19+K20 -> 25584272 | L16: =L17+L18+L19+L20 -> 10230472 | ... W16: =W17+W18+W19+W20 -> 3674000 | X16: =SUM(E16:W16) -> 344495352
A17: 14 | B17: 1、绩效工资 | C17: 主款项 | D17: 根据人保科数字编制 | E17: 48544000 | F17: 17760000 | G17: 14374500 | H17: 20905000 | I17: 60508800 | J17: 9680000 | K17: 22827200 | L17: 9116800 | M17: 21771200 | N17: 6230700 | O17: 7567000 | P17: 4508000 | Q17: 6601000 | R17: 1374000 | S17: 7084000 | T17: 24388000 | U17: 3171700 | V17: 23402800 | W17: 3542000 | X17: =SUM(E17:W17) -> 313356700
A18: 15 | B18: 2、校长职级制 | C18: 主款项 | D18: 根据校长职级制按实编制 | E18: 643416 | F18: 262212 | G18: 502004 | H18: =(3160+17740)*12+60000 -> 310800 | I18: 736104 | J18: 240992 | K18: 645072 | L18: =(3460+12346)*12+60000 -> 249672 | M18: =(3520+15199)*12+60000 -> 284628 | N18: =(3075+12362)*12+50000 -> 235244 | O18: 249024 | P18: 250356 | Q18: 245904 | S18: =(3725+15538)*12+10000+21000 -> 262156 | T18: =(3110+15115)*12+(3680+14935)*12+120000 -> 562080 | U18: =(3005+11238)*12+60000 -> 230916 | V18: =(3675+19081)*12+10000+45000 -> 328072 | X18: =SUM(E18:W18) -> 6238652
A19: 16 | B19: 3、工作餐补贴 | C19: 主款项 | D19: 公式计算 | E19: =E62*500*12 -> 1590000 | F19: =F62*500*12 -> 582000 | G19: =G62*500*12 -> 480000 | H19: =H62*500*12 -> 684000 | I19: =I62*500*12 -> 2082000 | J19: =J62*500*12 -> 336000 | K19: =K62*500*12 -> 792000 | L19: =L62*500*12 -> 324000 | ... W19: =W62*500*12 -> 132000 | X19: =SUM(E19:W19) -> 10830000
A20: 17 | B20: 4、课后服务(在编人员） | C20: 主款项 | D20: 根据人事口径按实编制 | E20: =E62*10000 -> 2650000 | F20: =F62*10000 -> 970000 | G20: =G62*10000 -> 800000 | H20: =H62*10000 -> 1140000 | I20: =I62*10000 -> 3470000 | J20: =J62*10000 -> 560000 | K20: =K62*10000 -> 1320000 | L20: =L62*10000 -> 540000 | M20: =M62*10000 -> 1250000 | T20: =T62*10000 -> 1370000 | X20: =SUM(E20:W20) -> 14070000
A21: 18 | B21: 城镇职工基本医疗保险缴费 | D21: 公式计算 | E21: =E22+E23 -> 8991483.4 | F21: =F22+F23 -> 3124434.9 | G21: =G22+G23 -> 2648568 | H21: =H22+H23 -> 3513855.4 | I21: =I22+I23 -> 11033880 | J21: =J22+J23 -> 1787470.3 | K21: =K22+K23 -> 4370518.3 | L21: =L22+L23 -> 1684933.7 | ... W21: =W22+W23 -> 624000 | X21: =SUM(E21:W21) -> 56812102
A22: 19 | B22: 1、医疗保险费9% | C22: 事业单位医疗 | D22: 公式计算 | E22: =ROUND(E30/0.07*0.09,2) -> 6224873.1 | F22: =ROUND(F30/0.07*0.09,2) -> 2163070.3 | G22: =ROUND(G30/0.07*0.09,2) -> 1833624 | H22: =ROUND(H30/0.07*0.09,2) -> 2432669.1 | I22: =ROUND(I30/0.07*0.09,2) -> 7638840 | J22: =ROUND(J30/0.07*0.09,2) -> 1237479.4 | K22: =ROUND(K30/0.07*0.09,2) -> 3025743.4 | L22: =ROUND(L30/0.07*0.09,2) -> 1166492.6 | ... W22: =ROUND(W30/0.07*0.09,2) -> 432000 | X22: =SUM(E22:W22) -> 39331455
A23: 20 | B23: 2、其他医疗保险费4% | C23: 事业单位医疗 | D23: 公式计算（请检查） | E23: =E24+E25 -> 2766610.3 | F23: =F24+F25 -> 961364.58 | G23: =G24+G25 -> 814944 | H23: =H24+H25 -> 1081186.3 | I23: =I24+I25 -> 3395040 | J23: =J24+J25 -> 549990.86 | K23: =K24+K25 -> 1344774.9 | L23: =L24+L25 -> 518441.14 | ... W23: =W24+W25 -> 192000 | X23: =SUM(E23:W23) -> 17480647
A24: 21 | B24: (1)其他保险2%(统筹)：住院及大病补助 | C24: 事业单位医疗 | D24: 公式计算（请检查） | E24: =ROUND(E30/0.07*0.02,2) -> 1383305.1 | F24: =ROUND(F30/0.07*0.02,2) -> 480682.29 | G24: =ROUND(G30/0.07*0.02,2) -> 407472 | H24: =ROUND(H30/0.07*0.02,2) -> 540593.14 | I24: =ROUND(I30/0.07*0.02,2) -> 1697520 | J24: =ROUND(J30/0.07*0.02,2) -> 274995.43 | K24: =ROUND(K30/0.07*0.02,2) -> 672387.43 | L24: =ROUND(L30/0.07*0.02,2) -> 259220.57 | ... W24: =ROUND(W30/0.07*0.02,2) -> 96000 | X24: =SUM(E24:W24) -> 8740323.4
A25: 22 | B25: (2)其他保险2%(单位)：购买保险 | C25: 事业单位医疗 | D25: 公式计算（请检查） | E25: =ROUND(E30/0.07*0.02,2) -> 1383305.1 | F25: =ROUND(F30/0.07*0.02,2) -> 480682.29 | G25: =ROUND(G30/0.07*0.02,2) -> 407472 | H25: =ROUND(H30/0.07*0.02,2) -> 540593.14 | I25: =ROUND(I30/0.07*0.02,2) -> 1697520 | J25: =ROUND(J30/0.07*0.02,2) -> 274995.43 | K25: =ROUND(K30/0.07*0.02,2) -> 672387.43 | L25: =ROUND(L30/0.07*0.02,2) -> 259220.57 | ... W25: =ROUND(W30/0.07*0.02,2) -> 96000 | X25: =SUM(E25:W25) -> 8740323.4
A26: 23 | B26: 事业单位基本养老保险缴费 | D26: 公式计算 | E26: =E27 -> 11066441 | F26: =F27 -> 3845458.3 | G26: =G27 -> 3259776 | H26: =H27 -> 4324745.1 | I26: =I27 -> 13580160 | J26: =J27 -> 2199963.4 | K26: =K27 -> 5379099.4 | L26: =L27 -> 2073764.6 | ... W26: =W27 -> 768000 | X26: =SUM(E26:W26) -> 69922587
A27: 24 | B27: 1、基本养老保险16% | C27: 养老保险 | D27: 公式计算（请检查） | E27: =ROUND(E30/0.07*0.16,2) -> 11066441 | F27: =ROUND(F30/0.07*0.16,2) -> 3845458.3 | G27: =ROUND(G30/0.07*0.16,2) -> 3259776 | H27: =ROUND(H30/0.07*0.16,2) -> 4324745.1 | I27: =ROUND(I30/0.07*0.16,2) -> 13580160 | J27: =ROUND(J30/0.07*0.16,2) -> 2199963.4 | K27: =ROUND(K30/0.07*0.16,2) -> 5379099.4 | L27: =ROUND(L30/0.07*0.16,2) -> 2073764.6 | ... W27: =ROUND(W30/0.07*0.16,2) -> 768000 | X27: =SUM(E27:W27) -> 69922587
A28: 25 | B28: 职业年金缴纳 | D28: 公式计算 | E28: =E29 -> 5533220.6 | F28: =F29 -> 1922729.1 | G28: =G29 -> 1629888 | H28: =H29 -> 2162372.6 | I28: =I29 -> 6790080 | J28: =J29 -> 1099981.7 | K28: =K29 -> 2689549.7 | L28: =L29 -> 1036882.3 | ... W28: =W29 -> 384000 | X28: =SUM(E28:W28) -> 34961294
A29: 26 | B29: 1、职业年金8% | C29: 职业年金 | D29: 公式计算（请检查） | E29: =ROUND(E30/0.07*0.08,2) -> 5533220.6 | F29: =ROUND(F30/0.07*0.08,2) -> 1922729.1 | G29: =ROUND(G30/0.07*0.08,2) -> 1629888 | H29: =ROUND(H30/0.07*0.08,2) -> 2162372.6 | I29: =ROUND(I30/0.07*0.08,2) -> 6790080 | J29: =ROUND(J30/0.07*0.08,2) -> 1099981.7 | K29: =ROUND(K30/0.07*0.08,2) -> 2689549.7 | L29: =ROUND(L30/0.07*0.08,2) -> 1036882.3 | ... W29: =ROUND(W30/0.07*0.08,2) -> 384000 | X29: =SUM(E29:W29) -> 34961294
A30: 27 | B30: 公积金7% | C30: 公积金 | D30: 根据人事口径按实编制 | E30: 4841568 | F30: =140199*12 -> 1682388 | G30: 1426152 | H30: =157673*12 -> 1892076 | I30: =495110*12 -> 5941320 | J30: 962484 | K30: =196113*12 -> 2353356 | L30: =75606*12 -> 907272 | M30: =177936*12 -> 2135232 | N30: =51209*12 -> 614508 | O30: =59666*12 -> 715992 | P30: =37482*12 -> 449784 | Q30: 660612 | R30: 124584 | S30: =57488*12 -> 689856 | T30: =187493*12 -> 2249916 | U30: =27879*12 -> 334548 | V30: =189457*12 -> 2273484 | W30: 336000 | X30: =SUM(E30:W30) -> 30591132
A31: 28 | B31: 其他工资福利 | C31: 主款项 | D31: 年初预算为0 | X31: =SUM(E31:W31) -> 0
A32: 29 | B32: 对个人和家庭补助 | D32: 公式计算 | E32: =E33+E35+E37 -> 2570591 | F32: =F33+F35+F37 -> 1027200 | G32: =G33+G35+G37 -> 1158060 | H32: =H33+H35+H37 -> 60420 | I32: =I33+I35+I37 -> 2030772 | J32: =J33+J35+J37 -> 669440 | K32: =K33+K35+K37 -> 658500 | L32: =L33+L35+L37 -> 447540 | ... W32: =W33+W35+W37 -> 1080 | X32: =SUM(E32:W32) -> 11347873
A33: 30 | B33: 退休费 | C33: 离退休 | D33: 根据退休人员情况按实编制 | E33: =E34 -> 2557631 | F33: =F34 -> 1020720 | G33: =G34 -> 1149420 | H33: =H34 -> 56460 | I33: =I34 -> 2018532 | J33: =J34 -> 666840 | K33: =K34 -> 656340 | L33: =L34 -> 446100 | ... W33: =W34 -> 0 | X33: =SUM(E33:W33) -> 11273123
A34: 31 | B34: 1、退休人员生活补贴 | C34: 离退休 | D34: 根据退休人员情况按实编制 | E34: 2557631 | F34: =85060*12 -> 1020720 | G34: 1149420 | H34: =4705*12 -> 56460 | I34: =168211*12 -> 2018532 | J34: 666840 | K34: =54695*12 -> 656340 | L34: =37175*12 -> 446100 | M34: =5910*12 -> 70920 | N34: =57720*12 -> 692640 | O34: 25860 | Q34: 491040 | R34: 156360 | T34: =28130*12 -> 337560 | V34: =77225*12 -> 926700 | X34: =SUM(E34:W34) -> 11273123
A35: 32 | B35: 奖励金 | D35: 公式计算 | E35: =E36 -> 12960 | F35: =F36 -> 6480 | G35: =G36 -> 8640 | H35: =H36 -> 3960 | I35: =I36 -> 12240 | J35: =J36 -> 2600 | K35: =K36 -> 2160 | L35: =L36 -> 1440 | ... W35: =W36 -> 1080 | X35: =SUM(E35:W35) -> 74750
A36: 33 | B36: 1、独生子女奖励费▲ | C36: 主款项 | D36: 根据人事口径按实编制 | E36: 12960 | F36: =540*12 -> 6480 | G36: 8640 | H36: =330*12 -> 3960 | I36: 12240 | J36: 2600 | K36: =180*12 -> 2160 | L36: =120*12 -> 1440 | M36: =150*12 -> 1800 | N36: =120*12 -> 1440 | O36: =270*12 -> 3240 | P36: 1800 | Q36: 630 | R36: 360 | S36: =270*12 -> 3240 | T36: 240 | U36: =30*12 -> 360 | V36: =840*12 -> 10080 | W36: 1080 | X36: =SUM(E36:W36) -> 74750
A37: 34 | B37: 其他支出对个人和家庭补助 | D37: 公式计算 | E37: =E38 -> 0 | F37: =F38 -> 0 | G37: =G38 -> 0 | H37: =H38 -> 0 | I37: =I38 -> 0 | J37: =J38 -> 0 | K37: =K38 -> 0 | L37: =L38 -> 0 | ... W37: =W38 -> 0 | X37: =SUM(E37:W37) -> 0
A38: 35 | B38: 1、其他 | C38: 主款项 | D38: 除罗阳小学3人及七宝二中1人的退休共享费外，其他学校填0 | X38: =SUM(E38:W38) -> 0
A39: 36 | B39: 商品和服务支出和其他资本性支出 | D39: 公式计算 | E39: =E40+E42+E44+E46+E48+E51+E53+E55+E59 -> 18748816 | F39: =F40+F42+F44+F46+F48+F51+F53+F55+F59 -> 7172930.3 | G39: =G40+G42+G44+G46+G48+G51+G53+G55+G59 -> 5965098.2 | H39: =H40+H42+H44+H46+H48+H51+H53+H55+H59 -> 8345373.1 | I39: =I40+I42+I44+I46+I48+I51+I53+I55+I59 -> 22491405 | J39: =J40+J42+J44+J46+J48+J51+J53+J55+J59 -> 3411870.9 | K39: =K40+K42+K44+K46+K48+K51+K53+K55+K59 -> 8934663.7 | L39: =L40+L42+L44+L46+L48+L51+L53+L55+L59 -> 3313454.1 | ... W39: =W40+W42+W44+W46+W48+W51+W53+W55+W59 -> 1810135 | X39: =SUM(E39:W39) -> 1.1629632e+08
A40: 37 | B40: (一)公用定额 | D40: 学生人数*定额 | E40: 14784000 | F40: 5682600 | G40: 4658500 | H40: 6999300 | I40: 17892540 | J40: 2545530 | K40: 7174350 | L40: 2465280 | M40: 6355800 | N40: 1430000 | O40: 1798940 | P40: 883740 | Q40: 1332760 | R40: 156800 | S40: =1198000 -> 1198000 | T40: 8220230 | U40: 858000 | V40: 4674580 | W40: 1430000 | X40: =SUM(E40:W40) -> 90540950
...

Sheet 浦江镇
A1: 2026年基本支出预算表
A2: 序号 | B2: 项目名称 | C2: 功能分类 | D2: 口径 | E2: 浦江二中 | F2: 浦江三中 | G2: 世外浦江 | H2: 浦航实中 | I2: 上师附中 | J2: 浦江二小 | K2: 浦江三小 | L2: 浦汇小学 | M2: 上戏附校 | N2: 福山实验 | O2: 浦江二幼 | P2: 浦江三幼 | Q2: 宝邸幼儿园 | R2: 闸航幼 | S2: 瑞和城幼 | T2: 浦瑞幼儿园 | U2: 浦航幼儿园 | V2: 浦莲幼儿园 | W2: 浦江社校 | X2: 合计 | Y2: 备注
E3: 初中 | F3: 初中 | G3: 一贯制 | H3: 初中 | I3: 一贯制 | J3: 小学 | K3: 小学 | L3: 小学 | M3: 小学 | N3: 小学 | O3: 幼儿园 | P3: 幼儿园 | Q3: 幼儿园 | R3: 幼儿园 | S3: 幼儿园 | T3: 幼儿园 | U3: 幼儿园 | V3: 幼儿园 | W3: 成人
A4: 1 | B4: 基本支出总预算数 | D4: 公式计算 | E4: =E5+E32+E39 -> 37951941 | F4: =F5+F32+F39 -> 35388597 | G4: =G5+G32+G39 -> 41892000 | H4: =H5+H32+H39 -> 41610484 | I4: =I5+I32+I39 -> 24715373 | J4: =J5+J32+J39 -> 42870368 | K4: =K5+K32+K39 -> 32957042 | L4: =L5+L32+L39 -> 30148564 | ... W4: =W5+W32+W39 -> 2867881.4 | X4: =SUM(E4:W4) -> 4.8516496e+08
A5: 2 | B5: 工资福利支出 | D5: 公式计算 | E5: =E6+E9+E13+E16+E21+E26+E28+E30+E31 -> 30300296 | F5: =F6+F9+F13+F16+F21+F26+F28+F30+F31 -> 28500912 | G5: =G6+G9+G13+G16+G21+G26+G28+G30+G31 -> 35296734 | H5: =H6+H9+H13+H16+H21+H26+H28+H30+H31 -> 33923570 | I5: =I6+I9+I13+I16+I21+I26+I28+I30+I31 -> 20044967 | J5: =J6+J9+J13+J16+J21+J26+J28+J30+J31 -> 33239357 | K5: =K6+K9+K13+K16+K21+K26+K28+K30+K31 -> 25364758 | L5: =L6+L9+L13+L16+L21+L26+L28+L30+L31 -> 23321506 | ... W5: =W6+W9+W13+W16+W21+W26+W28+W30+W31 -> 2159034.9 | X5: =SUM(E5:W5) -> 3.9577363e+08
A6: 3 | B6: 基本工资 | D6: 公式计算 | E6: =E7+E8 -> 4616820 | F6: =F7+F8 -> 4165284 | G6: =G7+G8 -> 4440000 | H6: =H7+H8 -> 4680812.4 | I6: =I7+I8 -> 2350000 | J6: =J7+J8 -> 5085912 | K6: =K7+K8 -> 3597012 | L6: =L7+L8 -> 2924964 | ... W6: =W7+W8 -> 345120 | X6: =SUM(E6:W6) -> 56281534
A7: 4 | B7: 1、岗位工资 | C7: 主款项 | D7: 根据人事口径按实编制 | E7: =208392*12 -> 2500704 | F7: =197668*12 -> 2372016 | G7: =240000*12 -> 2880000 | H7: =223291*12*1.1 -> 2947441.2 | I7: 1600000 | J7: 2708724 | K7: 2112240 | L7: 1999416 | M7: 2903524 | N7: =160684*12 -> 1928208 | O7: 1661280 | P7: 1734828 | Q7: 1903970 | R7: =56000*12 -> 672000 | S7: =73440*12 -> 881280 | T7: 920000 | U7: =90009*12 -> 1080108 | V7: 1309600 | W7: 175236 | X7: =SUM(E7:W7) -> 34290575
A8: 5 | B8: 2、薪级工资 | C8: 主款项 | D8: 根据人事口径按实编制 | E8: =176343*12 -> 2116116 | F8: =149439*12 -> 1793268 | G8: =130000*12 -> 1560000 | H8: =131316*12*1.1 -> 1733371.2 | I8: 750000 | J8: 2377188 | K8: 1484772 | L8: 925548 | M8: 1790828 | N8: =88883*12 -> 1066596 | O8: 1126896 | P8: 1134168 | Q8: 1106168 | R8: =30000*12 -> 360000 | S8: =45597*12 -> 547164 | T8: 500000 | U8: =55679*12 -> 668148 | V8: 780844 | W8: 169884 | X8: =SUM(E8:W8) -> 21990959
A9: 6 | B9: 津贴补贴 | D9: 公式计算 | E9: =E10+E11 -> 422784 | F9: =F10+F11 -> 416544 | G9: =G10+G11 -> 515760 | H9: =H10+H11 -> 478948.8 | I9: =I10+I11 -> 301824 | J9: =J10+J11 -> 486876 | K9: =K10+K11 -> 373656 | L9: =L10+L11 -> 365256 | ... W9: =W10+W11 -> 31992 | X9: =SUM(E9:W9) -> 6000796
A10: 7 | B10: 1、各类津贴★▲ | C10: 主款项 | D10: 根据人事口径按实编制 | E10: =472*12 -> 5664 | F10: =392*12 -> 4704 | G10: =300*12 -> 3600 | H10: =284*12*1.1 -> 3748.8 | I10: 864 | J10: 6396 | K10: 4056 | L10: 6216 | M10: 16398.2 | N10: =200*12 -> 2400 | O10: 3552 | P10: 3768 | Q10: 3108 | R10: 1000 | S10: =138*12 -> 1656 | T10: 15000 | U10: =163*12 -> 1956 | V10: 2797 | W10: 312 | X10: =SUM(E10:W10) -> 87196
A11: 8 | B11: 2、各类补贴 | D11: 公式计算 | E11: =E12 -> 417120 | F11: =F12 -> 411840 | G11: =G12 -> 512160 | H11: =H12 -> 475200 | I11: =I12 -> 300960 | J11: =J12 -> 480480 | K11: =K12 -> 369600 | L11: =L12 -> 359040 | ... W11: =W12 -> 31680 | X11: =SUM(E11:W11) -> 5913600
A12: 9 | B12: (1)上下班交通费补贴 | C12: 主款项 | D12: 公式计算 | E12: =440*12*E62 -> 417120 | F12: =440*12*F62 -> 411840 | G12: =440*12*G62 -> 512160 | H12: =440*12*H62 -> 475200 | I12: =440*12*I62 -> 300960 | J12: =440*12*J62 -> 480480 | K12: =440*12*K62 -> 369600 | L12: =440*12*L62 -> 359040 | ... W12: =440*12*W62 -> 31680 | X12: =SUM(E12:W12) -> 5913600
A13: 10 | B13: 其他社会保障缴费 | D13: 注：社保缴费基数应该相同 | E13: =E14+E15 -> 206484 | F13: =F14+F15 -> 192780 | G13: =G14+G15 -> 245115.42 | H13: =H14+H15 -> 235116 | I13: =I14+I15 -> 135714.28 | J13: =J14+J15 -> 228234.86 | K13: =K14+K15 -> 174440.58 | L13: =L14+L15 -> 149391.42 | ... W13: =W14+W15 -> 14398.28 | X13: =SUM(E13:W13) -> 2724695.8
A14: 11 | B14: 1、工伤保险费0.5(0.2%-1.9%) | C14: 主款项 | D14: 公式计算（请检查） | E14: =ROUND(E30/0.07*0.005,2) -> 103242 | F14: =ROUND(F30/0.07*0.005,2) -> 96390 | G14: =ROUND(G30/0.07*0.005,2) -> 122557.71 | H14: =ROUND(H30/0.07*0.005,2) -> 117558 | I14: =ROUND(I30/0.07*0.005,2) -> 67857.14 | J14: =ROUND(J30/0.07*0.005,2) -> 114117.43 | K14: =ROUND(K30/0.07*0.005,2) -> 87220.29 | L14: =ROUND(L30/0.07*0.005,2) -> 74695.71 | ... W14: =ROUND(W30/0.07*0.005,2) -> 7199.14 | X14: =SUM(E14:W14) -> 1362347.9
A15: 12 | B15: 2、失业保险0.5% | C15: 主款项 | D15: 公式计算（请检查） | E15: =ROUND(E30/0.07*0.005,2) -> 103242 | F15: =ROUND(F30/0.07*0.005,2) -> 96390 | G15: =ROUND(G30/0.07*0.005,2) -> 122557.71 | H15: =ROUND(H30/0.07*0.005,2) -> 117558 | I15: =ROUND(I30/0.07*0.005,2) -> 67857.14 | J15: =ROUND(J30/0.07*0.005,2) -> 114117.43 | K15: =ROUND(K30/0.07*0.005,2) -> 87220.29 | L15: =ROUND(L30/0.07*0.005,2) -> 74695.71 | ... W15: =ROUND(W30/0.07*0.005,2) -> 7199.14 | X15: =SUM(E15:W15) -> 1362347.9
A16: 13 | B16: 绩效工资 | D16: 公式计算 | E16: =E17+E18+E19+E20 -> 15968912 | F16: =F17+F18+F19+F20 -> 15243984 | G16: =G17+G18+G19+G20 -> 19310780 | H16: =H17+H18+H19+H20 -> 18183589 | I16: =I17+I18+I19+I20 -> 11286000 | J16: =J17+J18+J19+J20 -> 17396000 | K16: =K17+K18+K19+K20 -> 13544264 | L16: =L17+L18+L19+L20 -> 13308672 | ... W16: =W17+W18+W19+W20 -> 1134000 | X16: =SUM(E16:W16) -> 2.1087999e+08
A17: 14 | B17: 1、绩效工资 | C17: 主款项 | D17: 根据人保科数字编制 | E17: 14430000 | F17: 13690000 | G17: 17472000 | H17: 16465000 | I17: 10374000 | J17: 15435200 | K17: 12144000 | L17: 11792000 | M17: 15136000 | N17: 11792000 | O17: 8855000 | P17: 9177000 | Q17: 9016000 | R17: 3381000 | S17: 4830000 | T17: 4025000 | U17: 5957000 | V17: 6440000 | W17: 1098000 | X17: =SUM(E17:W17) -> 191509200
A18: 15 | B18: 2、校长职级制 | C18: 主款项 | D18: 根据校长职级制按实编制 | E18: 274912 | F18: 305984 | G18: 286780 | H18: 278589 | J18: 504800 | K18: 280264 | L18: 428672 | M18: 344436.4 | O18: 265902 | P18: 266332 | Q18: 286076 | R18: 246143 | S18: 252304 | T18: 250000 | U18: 245704 | V18: 293892 | X18: =SUM(E18:W18) -> 4810790.4
A19: 16 | B19: 3、工作餐补贴 | C19: 主款项 | D19: 公式计算 | E19: =E62*500*12 -> 474000 | F19: =F62*500*12 -> 468000 | G19: =G62*500*12 -> 582000 | H19: =H62*500*12 -> 540000 | I19: =I62*500*12 -> 342000 | J19: =J62*500*12 -> 546000 | K19: =K62*500*12 -> 420000 | L19: =L62*500*12 -> 408000 | ... W19: =W62*500*12 -> 36000 | X19: =SUM(E19:W19) -> 6720000
A20: 17 | B20: 4、课后服务(在编人员） | C20: 主款项 | D20: 根据人事口径按实编制 | E20: =79*10000 -> 790000 | F20: 780000 | G20: 970000 | H20: 900000 | I20: 570000 | J20: 910000 | K20: =K64*10000 -> 700000 | L20: 680000 | M20: 870000 | N20: =67*10000 -> 670000 | X20: =SUM(E20:W20) -> 7840000
A21: 18 | B21: 城镇职工基本医疗保险缴费 | D21: 公式计算 | E21: =E22+E23 -> 2684292 | F21: =F22+F23 -> 2506140 | G21: =G22+G23 -> 3186500.6 | H21: =H22+H23 -> 3056508 | I21: =I22+I23 -> 1764285.7 | J21: =J22+J23 -> 2967053.1 | K21: =K22+K23 -> 2267727.4 | L21: =L22+L23 -> 1942088.6 | ... W21: =W22+W23 -> 187177.71 | X21: =SUM(E21:W21) -> 35421046
A22: 19 | B22: 1、医疗保险费9% | C22: 事业单位医疗 | D22: 公式计算 | E22: =ROUND(E30/0.07*0.09,2) -> 1858356 | F22: =ROUND(F30/0.07*0.09,2) -> 1735020 | G22: =ROUND(G30/0.07*0.09,2) -> 2206038.9 | H22: =ROUND(H30/0.07*0.09,2) -> 2116044 | I22: =ROUND(I30/0.07*0.09,2) -> 1221428.6 | J22: =ROUND(J30/0.07*0.09,2) -> 2054113.7 | K22: =ROUND(K30/0.07*0.09,2) -> 1569965.1 | L22: =ROUND(L30/0.07*0.09,2) -> 1344522.9 | ... W22: =ROUND(W30/0.07*0.09,2) -> 129584.57 | X22: =SUM(E22:W22) -> 24522263
A23: 20 | B23: 2、其他医疗保险费4% | C23: 事业单位医疗 | D23: 公式计算（请检查） | E23: =E24+E25 -> 825936 | F23: =F24+F25 -> 771120 | G23: =G24+G25 -> 980461.72 | H23: =H24+H25 -> 940464 | I23: =I24+I25 -> 542857.14 | J23: =J24+J25 -> 912939.42 | K23: =K24+K25 -> 697762.28 | L23: =L24+L25 -> 597565.72 | ... W23: =W24+W25 -> 57593.14 | X23: =SUM(E23:W23) -> 10898783
A24: 21 | B24: (1)其他保险2%(统筹)：住院及大病补助 | C24: 事业单位医疗 | D24: 公式计算（请检查） | E24: =ROUND(E30/0.07*0.02,2) -> 412968 | F24: =ROUND(F30/0.07*0.02,2) -> 385560 | G24: =ROUND(G30/0.07*0.02,2) -> 490230.86 | H24: =ROUND(H30/0.07*0.02,2) -> 470232 | I24: =ROUND(I30/0.07*0.02,2) -> 271428.57 | J24: =ROUND(J30/0.07*0.02,2) -> 456469.71 | K24: =ROUND(K30/0.07*0.02,2) -> 348881.14 | L24: =ROUND(L30/0.07*0.02,2) -> 298782.86 | ... W24: =ROUND(W30/0.07*0.02,2) -> 28796.57 | X24: =SUM(E24:W24) -> 5449391.7
A25: 22 | B25: (2)其他保险2%(单位)：购买保险 | C25: 事业单位医疗 | D25: 公式计算（请检查） | E25: =ROUND(E30/0.07*0.02,2) -> 412968 | F25: =ROUND(F30/0.07*0.02,2) -> 385560 | G25: =ROUND(G30/0.07*0.02,2) -> 490230.86 | H25: =ROUND(H30/0.07*0.02,2) -> 470232 | I25: =ROUND(I30/0.07*0.02,2) -> 271428.57 | J25: =ROUND(J30/0.07*0.02,2) -> 456469.71 | K25: =ROUND(K30/0.07*0.02,2) -> 348881.14 | L25: =ROUND(L30/0.07*0.02,2) -> 298782.86 | ... W25: =ROUND(W30/0.07*0.02,2) -> 28796.57 | X25: =SUM(E25:W25) -> 5449391.7
A26: 23 | B26: 事业单位基本养老保险缴费 | D26: 公式计算 | E26: =E27 -> 3303744 | F26: =F27 -> 3084480 | G26: =G27 -> 3921846.9 | H26: =H27 -> 3761856 | I26: =I27 -> 2171428.6 | J26: =J27 -> 3651757.7 | K26: =K27 -> 2791049.1 | L26: =L27 -> 2390262.9 | ... W26: =W27 -> 230372.57 | X26: =SUM(E26:W26) -> 43595134
A27: 24 | B27: 1、基本养老保险16% | C27: 养老保险 | D27: 公式计算（请检查） | E27: =ROUND(E30/0.07*0.16,2) -> 3303744 | F27: =ROUND(F30/0.07*0.16,2) -> 3084480 | G27: =ROUND(G30/0.07*0.16,2) -> 3921846.9 | H27: =ROUND(H30/0.07*0.16,2) -> 3761856 | I27: =ROUND(I30/0.07*0.16,2) -> 2171428.6 | J27: =ROUND(J30/0.07*0.16,2) -> 3651757.7 | K27: =ROUND(K30/0.07*0.16,2) -> 2791049.1 | L27: =ROUND(L30/0.07*0.16,2) -> 2390262.9 | ... W27: =ROUND(W30/0.07*0.16,2) -> 230372.57 | X27: =SUM(E27:W27) -> 43595134
A28: 25 | B28: 职业年金缴纳 | D28: 公式计算 | E28: =E29 -> 1651872 | F28: =F29 -> 1542240 | G28: =G29 -> 1960923.4 | H28: =H29 -> 1880928 | I28: =I29 -> 1085714.3 | J28: =J29 -> 1825878.9 | K28: =K29 -> 1395524.6 | L28: =L29 -> 1195131.4 | ... W28: =W29 -> 115186.29 | X28: =SUM(E28:W28) -> 21797567
A29: 26 | B29: 1、职业年金8% | C29: 职业年金 | D29: 公式计算（请检查） | E29: =ROUND(E30/0.07*0.08,2) -> 1651872 | F29: =ROUND(F30/0.07*0.08,2) -> 1542240 | G29: =ROUND(G30/0.07*0.08,2) -> 1960923.4 | H29: =ROUND(H30/0.07*0.08,2) -> 1880928 | I29: =ROUND(I30/0.07*0.08,2) -> 1085714.3 | J29: =ROUND(J30/0.07*0.08,2) -> 1825878.9 | K29: =ROUND(K30/0.07*0.08,2) -> 1395524.6 | L29: =ROUND(L30/0.07*0.08,2) -> 1195131.4 | ... W29: =ROUND(W30/0.07*0.08,2) -> 115186.29 | X29: =SUM(E29:W29) -> 21797567
A30: 27 | B30: 公积金7% | C30: 公积金 | D30: 根据人事口径按实编制 | E30: 1445388 | F30: =112455*12 -> 1349460 | G30: =142984*12 -> 1715808 | H30: =261240/2*12*1.05 -> 1645812 | I30: 950000 | J30: 1597644 | K30: 1221084 | L30: 1045740 | M30: =127298*13 -> 1654874 | N30: =95399*12 -> 1144788 | O30: 855156 | P30: 930895 | Q30: 939568 | R30: =28500*12 -> 342000 | S30: =38724*12 -> 464688 | T30: 435470 | U30: =49506*12 -> 594072 | V30: 639636 | W30: 100788 | X30: =SUM(E30:W30) -> 19072871
A31: 28 | B31: 其他工资福利 | C31: 主款项 | D31: 年初预算为0 | U31: 0 | V31: 0 | X31: =SUM(E31:W31) -> 0
A32: 29 | B32: 对个人和家庭补助 | D32: 公式计算 | E32: =E33+E35+E37 -> 1320060 | F32: =F33+F35+F37 -> 1146180 | G32: =G33+G35+G37 -> 21525.21 | H32: =H33+H35+H37 -> 16500 | I32: =I33+I35+I37 -> 870 | J32: =J33+J35+J37 -> 2037780 | K32: =K33+K35+K37 -> 1916400 | L32: =L33+L35+L37 -> 720 | ... W32: =W33+W35+W37 -> 370500 | X32: =SUM(E32:W32) -> 7755110.2
A33: 30 | B33: 退休费 | C33: 离退休 | D33: 根据退休人员情况按实编制 | E33: =E34 -> 1318980 | F33: =F34 -> 1145100 | G33: =G34 -> 15780 | H33: =H34 -> 15780 | I33: =I34 -> 0 | J33: =J34 -> 2037060 | K33: =K34 -> 1915680 | L33: =L34 -> 0 | ... W33: =W34 -> 370500 | X33: =SUM(E33:W33) -> 7721345
A34: 31 | B34: 1、退休人员生活补贴 | C34: 离退休 | D34: 根据退休人员情况按实编制 | E34: =109915*12 -> 1318980 | F34: =95425*12 -> 1145100 | G34: =1315*12 -> 15780 | H34: =1315*12 -> 15780 | J34: 2037060 | K34: 1915680 | M34: 39060 | N34: =1315*12 -> 15780 | O34: 408780 | P34: 400740 | Q34: =1085*12+1085 -> 14105 | T34: 24000 | W34: 370500 | X34: =SUM(E34:W34) -> 7721345
A35: 32 | B35: 奖励金 | D35: 公式计算 | E35: =E36 -> 1080 | F35: =F36 -> 1080 | G35: =G36 -> 5745.21 | H35: =H36 -> 720 | I35: =I36 -> 870 | J35: =J36 -> 720 | K35: =K36 -> 720 | L35: =L36 -> 720 | ... W35: =W36 -> 0 | X35: =SUM(E35:W35) -> 33765.21
A36: 33 | B36: 1、独生子女奖励费▲ | C36: 主款项 | D36: 根据人事口径按实编制 | E36: =90*12 -> 1080 | F36: =30*12*3 -> 1080 | G36: 5745.21 | H36: =60*12 -> 720 | I36: 870 | J36: 720 | K36: 720 | L36: 720 | M36: 4680 | N36: 720 | O36: 5040 | P36: 3600 | Q36: 1950 | R36: =30*12 -> 360 | S36: =120*12 -> 1440 | T36: 1440 | U36: =90*12 -> 1080 | V36: 1800 | X36: =SUM(E36:W36) -> 33765.21
A37: 34 | B37: 其他支出对个人和家庭补助 | D37: 公式计算 | E37: =E38 -> 0 | F37: =F38 -> 0 | G37: =G38 -> 0 | H37: =H38 -> 0 | I37: =I38 -> 0 | J37: =J38 -> 0 | K37: =K38 -> 0 | L37: =L38 -> 0 | ... W37: =W38 -> 0 | X37: =SUM(E37:W37) -> 0
A38: 35 | B38: 1、其他 | C38: 主款项 | D38: 除罗阳小学3人及七宝二中1人的退休共享费外，其他学校填0 | V38: 0 | X38: =SUM(E38:W38) -> 0
A39: 36 | B39: 商品和服务支出和其他资本性支出 | D39: 公式计算 | E39: =E40+E42+E44+E46+E48+E51+E53+E55+E59 -> 6331585 | F39: =F40+F42+F44+F46+F48+F51+F53+F55+F59 -> 5741505 | G39: =G40+G42+G44+G46+G48+G51+G53+G55+G59 -> 6573740.2 | H39: =H40+H42+H44+H46+H48+H51+H53+H55+H59 -> 7670413.6 | I39: =I40+I42+I44+I46+I48+I51+I53+I55+I59 -> 4669536.1 | J39: =J40+J42+J44+J46+J48+J51+J53+J55+J59 -> 7593231 | K39: =K40+K42+K44+K46+K48+K51+K53+K55+K59 -> 5675884 | L39: =L40+L42+L44+L46+L48+L51+L53+L55+L59 -> 6826337.4 | ... W39: =W40+W42+W44+W46+W48+W51+W53+W55+W59 -> 338346.57 | X39: =SUM(E39:W39) -> 81636215
A40: 37 | B40: (一)公用定额 | D40: 学生人数*定额 | E40: =1248*3850 -> 4804800 | F40: 4396700 | G40: 4732990 | H40: 6352500 | I40: 3780700 | J40: 5620710 | K40: 4118430 | L40: 5829360 | M40: =M69*3210 -> 4532520 | N40: 3957930 | O40: 1793220 | P40: 2328040 | Q40: 1936220 | R40: 892320 | S40: =998140+858000 -> 1856140 | T40: 1716000 | U40: =300*2860+309*2860 -> 1741740 | V40: 1996280 | W40: 134400 | X40: =SUM(E40:W40) -> 62521000
...

Sheet 梅陇镇
A1: 2026年基本支出预算表
A2: 序号 | B2: 项目名称 | C2: 功能分类 | D2: 口径 | E2: 梅陇实验 | F2: 罗阳中学 | G2: 金都实验 | H2: 晶城中学 | I2: 第三实验 | J2: 罗阳小学 | K2: 蔷薇小学 | L2: 梅陇中心幼 | M2: 曹行中心幼 | N2: 春申景城幼 | O2: 罗阳河畔幼 | P2: 晶华坊幼 | Q2: 金都幼儿园 | R2: 梅锦幼儿园 | S2: 梅陇永联幼 | T2: 梅陇社区校 | U2: 合计 | V2: 备注
E3: 一贯制 | F3: 初中 | G3: 初中 | H3: 初中 | I3: 小学 | J3: 小学 | K3: 小学 | L3: 幼儿园 | M3: 幼儿园 | N3: 幼儿园 | O3: 幼儿园 | P3: 幼儿园 | Q3: 幼儿园 | R3: 幼儿园 | S3: 幼儿园 | T3: 成人
A4: 1 | B4: 基本支出总预算数 | D4: 公式计算 | E4: =E5+E32+E39 -> 55107199 | F4: =F5+F32+F39 -> 33683908 | G4: =G5+G32+G39 -> 33044191 | H4: =H5+H32+H39 -> 42156589 | I4: =I5+I32+I39 -> 28066572 | J4: =J5+J32+J39 -> 26292885 | K4: =K5+K32+K39 -> 48939178 | L4: =L5+L32+L39 -> 20751577 | ... T4: =T5+T32+T39 -> 1836641.1 | U4: =SUM(E4:T4) -> 3.9193555e+08
A5: 2 | B5: 工资福利支出 | D5: 公式计算 | E5: =E6+E9+E13+E16+E21+E26+E28+E30+E31 -> 43793645 | F5: =F6+F9+F13+F16+F21+F26+F28+F30+F31 -> 27569536 | G5: =G6+G9+G13+G16+G21+G26+G28+G30+G31 -> 26538200 | H5: =H6+H9+H13+H16+H21+H26+H28+H30+H31 -> 35048839 | I5: =I6+I9+I13+I16+I21+I26+I28+I30+I31 -> 22503637 | J5: =J6+J9+J13+J16+J21+J26+J28+J30+J31 -> 22292595 | K5: =K6+K9+K13+K16+K21+K26+K28+K30+K31 -> 40909120 | L5: =L6+L9+L13+L16+L21+L26+L28+L30+L31 -> 17286443 | ... T5: =T6+T9+T13+T16+T21+T26+T28+T30+T31 -> 1571218.3 | U5: =SUM(E5:T5) -> 3.2422771e+08
A6: 3 | B6: 基本工资 | D6: 公式计算 | E6: =E7+E8 -> 6761568 | F6: =F7+F8 -> 4050708 | G6: =G7+G8 -> 3908736 | H6: =H7+H8 -> 4690392 | I6: =I7+I8 -> 3870312 | J6: =J7+J8 -> 3321972 | K6: =K7+K8 -> 5805180 | L6: =L7+L8 -> 2851608 | ... T6: =T7+T8 -> 231324 | U6: =SUM(E6:T6) -> 49112801
A7: 4 | B7: 1、岗位工资 | C7: 主款项 | D7: 根据人事口径按实编制 | E7: 3513204 | F7: 2224284 | G7: 2195976 | H7: 2951064 | I7: 1789620 | J7: 1806672 | K7: 3346404 | L7: 1573116 | M7: 1137288 | N7: 2037912 | O7: 1322604 | P7: 1286184 | Q7: 1142724 | R7: 521004 | S7: 400536 | T7: 129504 | U7: =SUM(E7:T7) -> 27378096
A8: 5 | B8: 2、薪级工资 | C8: 主款项 | D8: 根据人事口径按实编制 | E8: 3248364 | F8: 1826424 | G8: 1712760 | H8: 1739328 | I8: 2080692 | J8: 1515300 | K8: 2458776 | L8: 1278492 | M8: 1004616 | N8: 1474716 | O8: 940692 | P8: 901776 | Q8: 819664.8 | R8: 378096 | S8: 253188 | T8: 101820 | U8: =SUM(E8:T8) -> 21734705
A9: 6 | B9: 津贴补贴 | D9: 公式计算 | E9: =E10+E11 -> 626832 | F9: =F10+F11 -> 379644 | G9: =G10+G11 -> 380136 | H9: =H10+H11 -> 506004 | I9: =I10+I11 -> 354696 | J9: =J10+J11 -> 326916 | K9: =K10+K11 -> 614016 | L9: =L10+L11 -> 284136 | ... T9: =T10+T11 -> 21480 | U9: =SUM(E9:T9) -> 4962525.6
A10: 7 | B10: 1、各类津贴★▲ | C10: 主款项 | D10: 根据人事口径按实编制 | E10: 9072 | F10: 4764 | G10: 5256 | H10: 4404 | I10: 6216 | J10: 4836 | K10: 6816 | L10: 4296 | M10: 3372 | N10: 4824 | O10: 3204 | P10: 2748 | Q10: 21777.6 | R10: 1080 | S10: 780 | T10: 360 | U10: =SUM(E10:T10) -> 83805.6
A11: 8 | B11: 2、各类补贴 | D11: 公式计算 | E11: =E12 -> 617760 | F11: =F12 -> 374880 | G11: =G12 -> 374880 | H11: =H12 -> 501600 | I11: =I12 -> 348480 | J11: =J12 -> 322080 | K11: =K12 -> 607200 | L11: =L12 -> 279840 | ... T11: =T12 -> 21120 | U11: =SUM(E11:T11) -> 4878720
A12: 9 | B12: (1)上下班交通费补贴 | C12: 主款项 | D12: 公式计算 | E12: =440*12*E62 -> 617760 | F12: =440*12*F62 -> 374880 | G12: =440*12*G62 -> 374880 | H12: =440*12*H62 -> 501600 | I12: =440*12*I62 -> 348480 | J12: =440*12*J62 -> 322080 | K12: =440*12*K62 -> 607200 | L12: =440*12*L62 -> 279840 | ... T12: =440*12*T62 -> 21120 | U12: =SUM(E12:T12) -> 4878720
A13: 10 | B13: 其他社会保障缴费 | D13: 注：社保缴费基数应该相同 | E13: =E14+E15 -> 297774.86 | F13: =F14+F15 -> 192000 | G13: =G14+G15 -> 179712 | H13: =H14+H15 -> 236333.14 | I13: =I14+I15 -> 146377.72 | J13: =J14+J15 -> 150454.28 | K13: =K14+K15 -> 275076 | L13: =L14+L15 -> 119501.14 | ... T13: =T14+T15 -> 10431.42 | U13: =SUM(E13:T13) -> 2194064.6
A14: 11 | B14: 1、工伤保险费0.5(0.2%-1.9%) | C14: 主款项 | D14: 公式计算（请检查） | E14: =ROUND(E30/0.07*0.005,2) -> 148887.43 | F14: =ROUND(F30/0.07*0.005,2) -> 96000 | G14: =ROUND(G30/0.07*0.005,2) -> 89856 | H14: =ROUND(H30/0.07*0.005,2) -> 118166.57 | I14: =ROUND(I30/0.07*0.005,2) -> 73188.86 | J14: =ROUND(J30/0.07*0.005,2) -> 75227.14 | K14: =ROUND(K30/0.07*0.005,2) -> 137538 | L14: =ROUND(L30/0.07*0.005,2) -> 59750.57 | ... T14: =ROUND(T30/0.07*0.005,2) -> 5215.71 | U14: =SUM(E14:T14) -> 1097032.3
A15: 12 | B15: 2、失业保险0.5% | C15: 主款项 | D15: 公式计算（请检查） | E15: =ROUND(E30/0.07*0.005,2) -> 148887.43 | F15: =ROUND(F30/0.07*0.005,2) -> 96000 | G15: =ROUND(G30/0.07*0.005,2) -> 89856 | H15: =ROUND(H30/0.07*0.005,2) -> 118166.57 | I15: =ROUND(I30/0.07*0.005,2) -> 73188.86 | J15: =ROUND(J30/0.07*0.005,2) -> 75227.14 | K15: =ROUND(K30/0.07*0.005,2) -> 137538 | L15: =ROUND(L30/0.07*0.005,2) -> 59750.57 | ... T15: =ROUND(T30/0.07*0.005,2) -> 5215.71 | U15: =SUM(E15:T15) -> 1097032.3
